{"text_format":"1","workbook":"xlsx","n_sheets":6,"sheets":["申込み方法","①学校情報","②団体戦","③個人戦","印刷シート","リスト"],"not_rendered":{"charts":0,"images":0,"macros":1,"external_links":0,"defined_names":4,"comments":0,"pivot_tables":0},"unopened":[],"bounds":{"document_bytes":16777216,"sheet_cells":100000,"rows_first":2000,"rows_last":500,"rows_between":2000,"halvings":0,"cell_chars":16384,"cell_head_chars":4096},"cells_cut":0,"cells_raw":0,"read":"whole","date_system":"1900"}

{"sheet":"申込み方法","index":0,"n_rows":18,"n_cols":4,"rows_kept":18,"cut":false,"hidden":false,"merged":[]}
[]
[null,null,{"$f":"①学校情報!B3&\"申し込み\"","v":"沖縄県高等学校総合体育大会申し込み"}]
[]
[null,"＜申し込み方法＞"]
[null,"１．①学校情報　②団体戦　③個人戦　シートへ必要事項を入力する。"]
[null,null,"※入力途中の場合は、上書き保存・名前を変えて保存のどちらでもでかまいません。"]
[]
[null,"２．次の手順でエクセルファイルを送信する。"]
[null,null,"①　このファイルを下記の名前で保存します。"]
[null,null,{"$f":"IF(①学校情報!B7=\"\",\"ファイル名は「学校情報」入力後表示\",①学校情報!B7&\"_\"&①学校情報!B11&\"(\"&①学校情報!B12&\")\")","v":"ファイル名は「学校情報」入力後表示"}]
[null,null,null,"このボタンは、teamsからダウンロードしたときのみ利用可"]
[null,null,"②　下記のアドレスをクリックする"]
[null,null,"https://forms.office.com/r/7b6JM58jcC"]
[null,null,"③　アップロードをクリックして、このエクセルファイルを選択する。"]
[]
[]
[null,null,"※個人戦で１０ペアを超える場合は、ファイル名に「追加」等を付したファイルを作成し、アップロードをしてください。(例)　5_名護(男子・追加)"]
[null,null,"※各シートの入力欄以外を訂正したい場合は、校閲→シートの保護解除をクリックしてください。"]

{"sheet":"①学校情報","index":1,"n_rows":17,"n_cols":3,"rows_kept":17,"cut":false,"hidden":false,"merged":[]}
["学校情報入力"]
["年度","令和７年度"]
["大会名","沖縄県高等学校総合体育大会"]
["印刷出力日","2025/4/●●"]
[]
["学校情報"]
["学校番号",{"$f":"IF(B11=\"\",\"\",VLOOKUP($B$11,リスト!$B$14:$F$99,2,0))","v":""},"訂正がある場合は、下のリストシートのデータを変更してください"]
["学校名",{"$f":"IF(B11=\"\",\"\",VLOOKUP($B$11,リスト!$B$14:$F$99,3,0))","v":""},"訂正がある場合は、下のリストシートのデータを変更してください"]
["住所",{"$f":"IF(B11=\"\",\"\",VLOOKUP($B$11,リスト!$B$14:$F$99,4,0))","v":""},"訂正がある場合は、下のリストシートのデータを変更してください"]
["学校電話番号",{"$f":"IF(B11=\"\",\"\",VLOOKUP($B$11,リスト!$B$14:$F$99,5,0))","v":""},"訂正がある場合は、下のリストシートのデータを変更してください"]
["学校略称",null,"リストから選択してください"]
["男女の別",null,"リストから選択してください"]
["学校長名"]
["引率責任者"]
["引率責任者携帯電話"]
["監督名"]
["監督の所属"]

{"sheet":"②団体戦","index":2,"n_rows":11,"n_cols":7,"rows_kept":11,"cut":false,"hidden":false,"merged":[[1,6,5,6],[7,6,9,6]]}
["団体戦選手入力"]
["番号","選手名","ふりがな","学年","生年月日",null,"＜確認＞\nデータを貼り付けしたい場合は、マウスを右クリックして、「値」貼り付けをしてください。\n"]
["例","沖縄　太郎","おきなわ　たろう","3年","2007-10-10"]
[1]
[2]
[3]
[4]
[5,null,null,null,null,null,"＜確認＞\n選手名は、姓と名の間にスペースを入れて下さい。\n"]
[6]
[7]
[8]

{"sheet":"③個人戦","index":3,"n_rows":23,"n_cols":7,"rows_kept":23,"cut":false,"hidden":false,"merged":[[1,6,5,6],[7,6,9,6]]}
["個人戦選手入力"]
["番号","選手名","ふりがな","学年","生年月日",null,"＜確認＞\nデータを貼り付けしたい場合は、マウスを右クリックして、「値」貼り付けをしてください。\n"]
["例","沖縄　太郎","おきなわ　たろう","3年","2007-10-10"]
["1A"]
["1B"]
["2A"]
["2B"]
["3A",null,null,null,null,null,"＜確認＞\n選手名は、姓と名の間にスペースを入れて下さい。\n"]
["3B"]
["4A"]
["4B"]
["5A"]
["5B"]
["6A"]
["6B"]
["7A"]
["7B"]
["8A"]
["8B"]
["9A"]
["9B"]
["10A"]
["10B"]

{"sheet":"印刷シート","index":4,"n_rows":45,"n_cols":15,"rows_kept":45,"cut":false,"hidden":false,"merged":[[39,1,39,15],[40,1,40,15],[35,6,35,10],[35,12,35,15],[36,6,36,10],[36,12,36,15],[37,6,37,10],[37,12,37,15],[31,6,31,10],[31,12,31,15],[32,6,32,10],[32,12,32,15],[33,6,33,10],[33,12,33,15],[38,1,38,15],[27,6,27,10],[27,12,27,15],[28,6,28,10],[28,12,28,15],[29,6,29,10],[29,12,29,15],[22,6,22,10],[22,12,22,15],[23,6,23,10],[23,12,23,15],[24,6,24,10],[24,12,24,15],[25,12,25,15],[18,12,18,15],[13,6,13,10],[14,6,14,10],[15,6,15,10],[8,12,8,15],[9,12,9,15],[10,12,10,15],[11,12,11,15],[12,12,12,15],[13,12,13,15],[14,12,14,15],[21,2,21,5],[22,2,22,5],[23,2,23,5],[36,2,36,5],[37,2,37,5],[34,2,34,5],[35,2,35,5],[34,6,34,10],[34,12,34,15],[32,2,32,5],[33,2,33,5],[30,2,30,5],[31,2,31,5],[30,6,30,10],[30,12,30,15],[28,2,28,5],[29,2,29,5],[26,2,26,5],[27,2,27,5],[26,6,26,10],[26,12,26,15],[24,2,24,5],[25,2,25,5],[25,6,25,10],[20,6,20,10],[20,12,20,15],[17,2,17,5],[5,14,5,15],[6,14,6,15],[15,2,15,5],[12,6,12,10],[6,1,6,2],[6,4,6,6],[6,7,6,8],[6,9,6,11],[7,6,7,10],[7,12,7,15],[8,6,8,10],[9,6,9,10],[10,6,10,10],[11,6,11,10],[18,2,18,5],[19,2,19,5],[20,2,20,5],[15,12,15,15],[17,6,17,10],[17,12,17,15],[18,6,18,10],[42,2,42,7],[44,4,44,15],[7,2,7,5],[8,2,8,5],[9,2,9,5],[10,2,10,5],[11,2,11,5],[12,2,12,5],[36,1,37,1],[34,1,35,1],[32,1,33,1],[30,1,31,1],[28,1,29,1],[26,1,27,1],[24,1,25,1],[22,1,23,1],[20,1,21,1],[18,1,19,1],[14,2,14,5],[13,2,13,5],[21,6,21,10],[21,12,21,15],[19,6,19,10],[19,12,19,15],[0,1,0,15],[1,13,1,15],[2,1,2,6],[2,13,3,15],[4,1,4,12],[5,1,5,2],[5,3,5,6],[5,7,5,8],[5,9,5,12],[4,14,4,15]]}
[null,{"$f":"①学校情報!B2&\"　\"&①学校情報!B3","v":"令和７年度　沖縄県高等学校総合体育大会"}]
[null,null,null,null,null,null,null,null,null,null,null,null,null,"学校番号"]
[null,"　沖縄県高等学校体育連盟会長殿",null,null,null,null,null,null,null,null,null,null,null,{"$f":"IF(①学校情報!$B$7=\"\",\"\",①学校情報!$B$7)","v":""}]
[null,null,null,null,null,"ソフトテニス競技　申込用紙"]
[null,"団　体　の　部",null,null,null,null,null,null,null,null,null,null,null,null,{"$f":"IF(①学校情報!$B$12=\"\",\"男女未入力\",①学校情報!$B$12)","v":"男女未入力"}]
[null,"学　校　名",null,{"$f":"IF(①学校情報!$B$8=\"\",\"\",①学校情報!$B$8)","v":""},null,null,null,"所在地",null,{"$f":"IF(①学校情報!$B$9=\"\",\"\",①学校情報!$B$9)","v":""},null,null,null,"TEL",{"$f":"IF(①学校情報!$B$10=\"\",\"\",①学校情報!$B$10)","v":""}]
[null,"監　督　名",null,{"$f":"IF(①学校情報!$B$17=\"\",\"\",①学校情報!$B$17)","v":""},{"$f":"IF(①学校情報!$B$16=\"\",\"\",①学校情報!$B$16)","v":""},null,null,"引率責任者",null,{"$f":"IF(①学校情報!$B$14=\"\",\"\",①学校情報!$B$14)","v":""},null,null,"印","TEL",{"$f":"IF(①学校情報!$B$15=\"\",\"\",①学校情報!$B$15)","v":""}]
[null,"番号","氏　　　　名",null,null,null,"ふ　り　が　な",null,null,null,null,"学年","生年月日"]
[null,1,{"$f":"IF(②団体戦!$B4=\"\",\"\",②団体戦!$B4)","v":""},null,null,null,{"$f":"IF(②団体戦!$C4=\"\",\"\",②団体戦!$C4)","v":""},null,null,null,null,{"$f":"IF(②団体戦!$D4=\"\",\"\",②団体戦!$D4)","v":""},{"$f":"IF(②団体戦!$E4=\"\",\"\",②団体戦!$E4)","v":""}]
[null,2,{"$f":"IF(②団体戦!$B5=\"\",\"\",②団体戦!$B5)","v":""},null,null,null,{"$f":"IF(②団体戦!$C5=\"\",\"\",②団体戦!$C5)","v":""},null,null,null,null,{"$f":"IF(②団体戦!$D5=\"\",\"\",②団体戦!$D5)","v":""},{"$f":"IF(②団体戦!$E5=\"\",\"\",②団体戦!$E5)","v":""}]
[null,3,{"$f":"IF(②団体戦!$B6=\"\",\"\",②団体戦!$B6)","v":""},null,null,null,{"$f":"IF(②団体戦!$C6=\"\",\"\",②団体戦!$C6)","v":""},null,null,null,null,{"$f":"IF(②団体戦!$D6=\"\",\"\",②団体戦!$D6)","v":""},{"$f":"IF(②団体戦!$E6=\"\",\"\",②団体戦!$E6)","v":""}]
[null,4,{"$f":"IF(②団体戦!$B7=\"\",\"\",②団体戦!$B7)","v":""},null,null,null,{"$f":"IF(②団体戦!$C7=\"\",\"\",②団体戦!$C7)","v":""},null,null,null,null,{"$f":"IF(②団体戦!$D7=\"\",\"\",②団体戦!$D7)","v":""},{"$f":"IF(②団体戦!$E7=\"\",\"\",②団体戦!$E7)","v":""}]
[null,5,{"$f":"IF(②団体戦!$B8=\"\",\"\",②団体戦!$B8)","v":""},null,null,null,{"$f":"IF(②団体戦!$C8=\"\",\"\",②団体戦!$C8)","v":""},null,null,null,null,{"$f":"IF(②団体戦!$D8=\"\",\"\",②団体戦!$D8)","v":""},{"$f":"IF(②団体戦!$E8=\"\",\"\",②団体戦!$E8)","v":""}]
[null,6,{"$f":"IF(②団体戦!$B9=\"\",\"\",②団体戦!$B9)","v":""},null,null,null,{"$f":"IF(②団体戦!$C9=\"\",\"\",②団体戦!$C9)","v":""},null,null,null,null,{"$f":"IF(②団体戦!$D9=\"\",\"\",②団体戦!$D9)","v":""},{"$f":"IF(②団体戦!$E9=\"\",\"\",②団体戦!$E9)","v":""}]
[null,7,{"$f":"IF(②団体戦!$B10=\"\",\"\",②団体戦!$B10)","v":""},null,null,null,{"$f":"IF(②団体戦!$C10=\"\",\"\",②団体戦!$C10)","v":""},null,null,null,null,{"$f":"IF(②団体戦!$D10=\"\",\"\",②団体戦!$D10)","v":""},{"$f":"IF(②団体戦!$E10=\"\",\"\",②団体戦!$E10)","v":""}]
[null,8,{"$f":"IF(②団体戦!$B11=\"\",\"\",②団体戦!$B11)","v":""},null,null,null,{"$f":"IF(②団体戦!$C11=\"\",\"\",②団体戦!$C11)","v":""},null,null,null,null,{"$f":"IF(②団体戦!$D11=\"\",\"\",②団体戦!$D11)","v":""},{"$f":"IF(②団体戦!$E11=\"\",\"\",②団体戦!$E11)","v":""}]
[null,"個　人　の　部"]
[null,"番号","氏　　　　名",null,null,null,"ふ　り　が　な",null,null,null,null,"学年","生　年　月　日"]
[null,1,{"$f":"IF(③個人戦!$B4=\"\",\"\",③個人戦!$B4)","v":""},null,null,null,{"$f":"IF(③個人戦!$C4=\"\",\"\",③個人戦!$C4)","v":""},null,null,null,null,{"$f":"IF(③個人戦!$D4=\"\",\"\",③個人戦!$D4)","v":""},{"$f":"IF(③個人戦!$E4=\"\",\"\",③個人戦!$E4)","v":""}]
[null,null,{"$f":"IF(③個人戦!$B5=\"\",\"\",③個人戦!$B5)","v":""},null,null,null,{"$f":"IF(③個人戦!$C5=\"\",\"\",③個人戦!$C5)","v":""},null,null,null,null,{"$f":"IF(③個人戦!$D5=\"\",\"\",③個人戦!$D5)","v":""},{"$f":"IF(③個人戦!$E5=\"\",\"\",③個人戦!$E5)","v":""}]
[null,2,{"$f":"IF(③個人戦!$B6=\"\",\"\",③個人戦!$B6)","v":""},null,null,null,{"$f":"IF(③個人戦!$C6=\"\",\"\",③個人戦!$C6)","v":""},null,null,null,null,{"$f":"IF(③個人戦!$D6=\"\",\"\",③個人戦!$D6)","v":""},{"$f":"IF(③個人戦!$E6=\"\",\"\",③個人戦!$E6)","v":""}]
[null,null,{"$f":"IF(③個人戦!$B7=\"\",\"\",③個人戦!$B7)","v":""},null,null,null,{"$f":"IF(③個人戦!$C7=\"\",\"\",③個人戦!$C7)","v":""},null,null,null,null,{"$f":"IF(③個人戦!$D7=\"\",\"\",③個人戦!$D7)","v":""},{"$f":"IF(③個人戦!$E7=\"\",\"\",③個人戦!$E7)","v":""}]
[null,3,{"$f":"IF(③個人戦!$B8=\"\",\"\",③個人戦!$B8)","v":""},null,null,null,{"$f":"IF(③個人戦!$C8=\"\",\"\",③個人戦!$C8)","v":""},null,null,null,null,{"$f":"IF(③個人戦!$D8=\"\",\"\",③個人戦!$D8)","v":""},{"$f":"IF(③個人戦!$E8=\"\",\"\",③個人戦!$E8)","v":""}]
[null,null,{"$f":"IF(③個人戦!$B9=\"\",\"\",③個人戦!$B9)","v":""},null,null,null,{"$f":"IF(③個人戦!$C9=\"\",\"\",③個人戦!$C9)","v":""},null,null,null,null,{"$f":"IF(③個人戦!$D9=\"\",\"\",③個人戦!$D9)","v":""},{"$f":"IF(③個人戦!$E9=\"\",\"\",③個人戦!$E9)","v":""}]
[null,4,{"$f":"IF(③個人戦!$B10=\"\",\"\",③個人戦!$B10)","v":""},null,null,null,{"$f":"IF(③個人戦!$C10=\"\",\"\",③個人戦!$C10)","v":""},null,null,null,null,{"$f":"IF(③個人戦!$D10=\"\",\"\",③個人戦!$D10)","v":""},{"$f":"IF(③個人戦!$E10=\"\",\"\",③個人戦!$E10)","v":""}]
[null,null,{"$f":"IF(③個人戦!$B11=\"\",\"\",③個人戦!$B11)","v":""},null,null,null,{"$f":"IF(③個人戦!$C11=\"\",\"\",③個人戦!$C11)","v":""},null,null,null,null,{"$f":"IF(③個人戦!$D11=\"\",\"\",③個人戦!$D11)","v":""},{"$f":"IF(③個人戦!$E11=\"\",\"\",③個人戦!$E11)","v":""}]
[null,5,{"$f":"IF(③個人戦!$B12=\"\",\"\",③個人戦!$B12)","v":""},null,null,null,{"$f":"IF(③個人戦!$C12=\"\",\"\",③個人戦!$C12)","v":""},null,null,null,null,{"$f":"IF(③個人戦!$D12=\"\",\"\",③個人戦!$D12)","v":""},{"$f":"IF(③個人戦!$E12=\"\",\"\",③個人戦!$E12)","v":""}]
[null,null,{"$f":"IF(③個人戦!$B13=\"\",\"\",③個人戦!$B13)","v":""},null,null,null,{"$f":"IF(③個人戦!$C13=\"\",\"\",③個人戦!$C13)","v":""},null,null,null,null,{"$f":"IF(③個人戦!$D13=\"\",\"\",③個人戦!$D13)","v":""},{"$f":"IF(③個人戦!$E13=\"\",\"\",③個人戦!$E13)","v":""}]
[null,6,{"$f":"IF(③個人戦!$B14=\"\",\"\",③個人戦!$B14)","v":""},null,null,null,{"$f":"IF(③個人戦!$C14=\"\",\"\",③個人戦!$C14)","v":""},null,null,null,null,{"$f":"IF(③個人戦!$D14=\"\",\"\",③個人戦!$D14)","v":""},{"$f":"IF(③個人戦!$E14=\"\",\"\",③個人戦!$E14)","v":""}]
[null,null,{"$f":"IF(③個人戦!$B15=\"\",\"\",③個人戦!$B15)","v":""},null,null,null,{"$f":"IF(③個人戦!$C15=\"\",\"\",③個人戦!$C15)","v":""},null,null,null,null,{"$f":"IF(③個人戦!$D15=\"\",\"\",③個人戦!$D15)","v":""},{"$f":"IF(③個人戦!$E15=\"\",\"\",③個人戦!$E15)","v":""}]
[null,7,{"$f":"IF(③個人戦!$B16=\"\",\"\",③個人戦!$B16)","v":""},null,null,null,{"$f":"IF(③個人戦!$C16=\"\",\"\",③個人戦!$C16)","v":""},null,null,null,null,{"$f":"IF(③個人戦!$D16=\"\",\"\",③個人戦!$D16)","v":""},{"$f":"IF(③個人戦!$E16=\"\",\"\",③個人戦!$E16)","v":""}]
[null,null,{"$f":"IF(③個人戦!$B17=\"\",\"\",③個人戦!$B17)","v":""},null,null,null,{"$f":"IF(③個人戦!$C17=\"\",\"\",③個人戦!$C17)","v":""},null,null,null,null,{"$f":"IF(③個人戦!$D17=\"\",\"\",③個人戦!$D17)","v":""},{"$f":"IF(③個人戦!$E17=\"\",\"\",③個人戦!$E17)","v":""}]
[null,8,{"$f":"IF(③個人戦!$B18=\"\",\"\",③個人戦!$B18)","v":""},null,null,null,{"$f":"IF(③個人戦!$C18=\"\",\"\",③個人戦!$C18)","v":""},null,null,null,null,{"$f":"IF(③個人戦!$D18=\"\",\"\",③個人戦!$D18)","v":""},{"$f":"IF(③個人戦!$E18=\"\",\"\",③個人戦!$E18)","v":""}]
[null,null,{"$f":"IF(③個人戦!$B19=\"\",\"\",③個人戦!$B19)","v":""},null,null,null,{"$f":"IF(③個人戦!$C19=\"\",\"\",③個人戦!$C19)","v":""},null,null,null,null,{"$f":"IF(③個人戦!$D19=\"\",\"\",③個人戦!$D19)","v":""},{"$f":"IF(③個人戦!$E19=\"\",\"\",③個人戦!$E19)","v":""}]
[null,9,{"$f":"IF(③個人戦!$B20=\"\",\"\",③個人戦!$B20)","v":""},null,null,null,{"$f":"IF(③個人戦!$C20=\"\",\"\",③個人戦!$C20)","v":""},null,null,null,null,{"$f":"IF(③個人戦!$D20=\"\",\"\",③個人戦!$D20)","v":""},{"$f":"IF(③個人戦!$E20=\"\",\"\",③個人戦!$E20)","v":""}]
[null,null,{"$f":"IF(③個人戦!$B21=\"\",\"\",③個人戦!$B21)","v":""},null,null,null,{"$f":"IF(③個人戦!$C21=\"\",\"\",③個人戦!$C21)","v":""},null,null,null,null,{"$f":"IF(③個人戦!$D21=\"\",\"\",③個人戦!$D21)","v":""},{"$f":"IF(③個人戦!$E21=\"\",\"\",③個人戦!$E21)","v":""}]
[null,10,{"$f":"IF(③個人戦!$B22=\"\",\"\",③個人戦!$B22)","v":""},null,null,null,{"$f":"IF(③個人戦!$C22=\"\",\"\",③個人戦!$C22)","v":""},null,null,null,null,{"$f":"IF(③個人戦!$D22=\"\",\"\",③個人戦!$D22)","v":""},{"$f":"IF(③個人戦!$E22=\"\",\"\",③個人戦!$E22)","v":""}]
[null,null,{"$f":"IF(③個人戦!$B23=\"\",\"\",③個人戦!$B23)","v":""},null,null,null,{"$f":"IF(③個人戦!$C23=\"\",\"\",③個人戦!$C23)","v":""},null,null,null,null,{"$f":"IF(③個人戦!$D23=\"\",\"\",③個人戦!$D23)","v":""},{"$f":"IF(③個人戦!$E23=\"\",\"\",③個人戦!$E23)","v":""}]
[]
[null,"①上記の者は本校学生であり､健康診断の結果異常なく標記大会に出場することを認め参加申込いたします｡"]
[null,"②個人情報については「沖縄県高体連個人情報保護方針」を承諾した上で参加申込みすることに同意します｡"]
[]
[null,null,{"$f":"IF(①学校情報!B4=\"\",\"未入力\",①学校情報!B4)","v":"2025/4/●●"}]
[]
[null,null,null,null,{"$f":"\"　\"&①学校情報!B8&\"長　　\"&①学校情報!B13&\"　印　\"","v":"　長　　　印　"}]

{"sheet":"リスト","index":5,"n_rows":91,"n_cols":6,"rows_kept":91,"cut":false,"hidden":false,"merged":[]}
[]
[]
[]
[null,"1年"]
[null,"2年"]
[null,"3年"]
[]
[null,"男子"]
[null,"女子"]
[]
[null,"職員"]
[null,"外部"]
[]
[null,"辺土名",1,"沖縄県立辺土名高等学校","大宜味村字饒波2015","0980-44-3103"]
[null,"北山",2,"沖縄県立北山高等学校","今帰仁村字仲尾次540-1","0980-56-2401"]
[null,"本部",3,"沖縄県立本部高等学校","本部町字渡久地377","0980-47-2418"]
[null,"名商工",4,"沖縄県立名護商工高等学校","名護市大北4-1-23","0980-52-3389"]
[null,"名護",5,"沖縄県立名護高等学校","名護市大西5-17-1","0980-52-2615"]
[null,"北農",6,"沖縄県立北部農林高等学校","名護市字宇茂佐13","0980-52-2634"]
[null,"沖高専",7,"国立沖縄工業高等専門学校","沖縄県名護市字辺野古905","0980-55-4003"]
[null,"宜野座",8,"沖縄県立宜野座高等学校","宜野座村字宜野座1","098-968-8311"]
[null,"石川",9,"沖縄県立石川高等学校","うるま市石川伊波861","098-964-2006"]
[null,"具商",10,"沖縄県立具志川商業高等学校","うるま市みどり町6-10-1","098-972-3287"]
[null,"前原",11,"沖縄県立前原高等学校","うるま市字田場1827","098-973-3249"]
[null,"中農",12,"沖縄県立中部農林高等学校","うるま市字田場1570","098-973-3578"]
[null,"具志川",13,"沖縄県立具志川高等学校","うるま市喜仲3-28-1","098-973-1213"]
[null,"与勝",14,"沖縄県立与勝高等学校","うるま市勝連平安名3248","098-978-5230"]
[null,"読谷",15,"沖縄県立読谷高等学校","読谷村字伊良皆198","098-956-2157"]
[null,"嘉手納",16,"沖縄県立嘉手納高等学校","嘉手納町字屋良806","098-956-3336"]
[null,"美里",17,"沖縄県立美里高等学校","沖縄市松本2-5-1","098-938-5145"]
[null,"美来工科",18,"沖縄県立美来工科高等学校","沖縄市越来3-17-1","098-937-5451"]
[null,"コザ",19,"沖縄県立コザ高等学校","沖縄市照屋5-5-1","098-937-3563"]
[null,"美工",20,"沖縄県立美里工業高等学校","沖縄市泡瀬5-42-2","098-937-5848"]
[null,"球陽",21,"沖縄県立球陽高等学校","沖縄市南桃原1-10-1","098-933-9301"]
[null,"北谷",22,"沖縄県立北谷高等学校","北谷町字桑江414","098-936-1010"]
[null,"北中城",23,"沖縄県立北中城高等学校","北中城村字渡口1997-13","098-935-3377"]
[null,"普天間",24,"沖縄県立普天間高等学校","宜野湾市普天間1-24-1","098-892-3354"]
[null,"中商",25,"沖縄県立中部商業高等学校","宜野湾市我如古2-2-1","098-898-4888"]
[null,"宜野湾",26,"沖縄県立宜野湾高等学校","宜野湾市真志喜2-25-1","098-897-1020"]
[null,"沖ｶﾄ",27,"沖縄カトリック高等学校","宜野湾市真栄原3-16-1","098-897-3300"]
[null,"西原",28,"沖縄県立西原高等学校","西原町字翁長610","098-945-5418"]
[null,"浦商",29,"沖縄県立浦添商業高等学校","浦添市伊祖3-11-1","098-877-5844"]
[null,"浦工",30,"沖縄県立浦添工業高等学校","浦添市経塚1-1-1","098-879-5992"]
[null,"陽明",31,"沖縄県立陽明高等学校","浦添市字大平488","098-879-3062"]
[null,"昭薬附",32,"昭和薬科大学附属高等学校","浦添市字沢岻450","098-870-1852"]
[null,"浦添",33,"沖縄県立浦添高等学校","浦添市内間3-26-1","098-877-4970"]
[null,"那覇工",34,"沖縄県立那覇工業高等学校","浦添市勢理客4-22-1","098-877-6144"]
[null,"那覇国",35,"沖縄県立那覇国際高等学校","那覇市天久1-29-1","098-860-5931"]
[null,"興南",36,"学校法人興南学園興南高等学校","那覇市古島1-7-1","098-884-3293"]
[null,"首里東",37,"沖縄県立首里東高等学校","那覇市首里石嶺町3-178","098-886-1578"]
[null,"首里",38,"沖縄県立首里高等学校","那覇市首里真和志町2-43","098-885-0028"]
[null,"沖工",39,"沖縄県立沖縄工業高等学校","那覇市松川3-20-1","098-832-3831"]
[null,"沖尚",40,"学校法人尚学学園沖縄尚学高等学校","那覇市字国場747","098-832-1767"]
[null,"真和志",41,"沖縄県立真和志高等学校","那覇市字真地248","098-833-0810"]
[null,"那覇商",42,"沖縄県立那覇商業高等学校","那覇市松山1-16-1","098-866-6555"]
[null,"那覇",43,"沖縄県立那覇高等学校","那覇市松尾1-21-44","098-867-1623"]
[null,"小禄",44,"沖縄県立小禄高等学校","那覇市鏡原町22-1","098-857-0481"]
[null,"那覇西",45,"沖縄県立那覇西高等学校","那覇市金城3-5-1","098-858-8274"]
[null,"開邦",46,"沖縄県立開邦高等学校","南風原町字新川646","098-889-1715"]
[null,"南風原",47,"沖縄県立南風原高等学校","南風原町字津嘉山1140","098-889-4618"]
[null,"知念",48,"沖縄県立知念高等学校","与那原町字与那原11","098-946-2207"]
[null,"豊見城",49,"沖縄県立豊見城高等学校","豊見城市字真玉橋217","098-850-5551"]
[null,"豊南",50,"沖縄県立豊見城南高等学校","豊見城市字翁長520","098-850-1950"]
[null,"南農",51,"沖縄県立南部農林高等学校","豊見城市字長堂182","098-850-6006"]
[null,"南商",52,"沖縄県立南部商業高等学校","八重瀬町字友寄850","098-998-2401"]
[null,"南工",53,"沖縄県立南部工業高等学校","八重瀬町字富盛1338","098-998-2313"]
[null,"向陽",54,"沖縄県立向陽高等学校","八重瀬町字港川150","098-998-9324"]
[null,"沖水",55,"沖縄県立沖縄水産高等学校","糸満市西崎1-1-1","098-994-3483"]
[null,"糸満",56,"沖縄県立糸満高等学校","糸満市字糸満1696-1","098-994-2012"]
[null,"久米島",57,"沖縄県立久米島高等学校","久米島町字嘉手苅727","098-985-2233"]
[null,"宮古",58,"沖縄県立宮古高等学校","宮古島市平良字西里718-1","0980-72-2118"]
[null,"宮総実",59,"沖縄県立宮古総合実業高等学校","宮古島市平良字下里280","0980-72-2249"]
[null,"宮工",60,"沖縄県立宮古工業高等学校","宮古島市平良字東仲宗根968-4","0980-72-3185"]
[null,"八重農",61,"沖縄県立八重山農林高等学校","石垣市字大川477-1","0980-82-3955"]
[null,"八商工",62,"沖縄県立八重山商工高等学校","石垣市字真栄里180","0980-82-3892"]
[null,"八重山",63,"沖縄県立八重山高等学校","石垣市字登野城275","0980-82-3972"]
[null,"鏡が丘特",64]
[null,"沖高特",65]
[null,"美咲特",68]
[null,"KBC",69]
[null,"宮古特",70]
[null,"西崎特",71]
[null,"大平特",72]
[null,"中農高支",74]
[null,"陽明高支",75]
[null,"南風原高支",76]
[null,"やえせ高支",77]
[null,"はなさき支",78]
[null,"仙台育英沖縄",81]
[null,"エナジック",82]
[null,"名護特",83]