{"text_format":"1","workbook":"xlsx","n_sheets":3,"sheets":["データ入力・貼付シート","申込一覧表","高体連番号はこちら"],"not_rendered":{"charts":0,"images":2,"macros":1,"external_links":0,"defined_names":3,"comments":0,"pivot_tables":0},"unopened":[],"bounds":{"document_bytes":16777216,"sheet_cells":100000,"rows_first":2000,"rows_last":500,"rows_between":2000,"halvings":0,"cell_chars":16384,"cell_head_chars":4096},"cells_cut":0,"cells_raw":0,"read":"whole","date_system":"1900"}

{"sheet":"データ入力・貼付シート","index":0,"n_rows":83,"n_cols":23,"rows_kept":83,"cut":false,"hidden":false,"merged":[[2,3,2,4],[3,3,3,4],[5,3,5,5],[6,3,6,5],[81,8,81,11],[12,4,12,5],[7,3,7,5],[16,3,16,5],[15,3,15,5],[14,3,14,5],[13,3,13,4],[11,3,11,5],[10,3,10,5],[79,0,79,1],[11,1,11,2],[10,1,10,2],[19,0,19,2],[10,0,14,0],[29,0,29,1],[35,0,35,1],[37,21,37,22],[17,4,17,5],[81,21,81,22],[37,15,37,17],[37,18,37,20],[81,12,81,14],[81,15,81,17],[81,18,81,20],[37,12,37,14],[37,8,37,11],[1,3,1,9],[4,3,4,9],[21,0,21,3],[23,0,23,1],[1,0,7,0],[7,1,7,2],[9,0,9,2],[8,0,8,2],[6,1,6,2],[5,1,5,2],[15,0,17,0],[17,1,17,2],[16,1,16,2],[15,1,15,2],[14,1,14,2],[13,1,13,2],[4,1,4,2],[3,1,3,2],[2,1,2,2],[1,1,1,2],[12,1,12,2]]}
[]
["所属校\nデータ","正式名称",null,null,null,null,null,null,null,null,null,null,null,null,null,null,"男","教諭"]
[null,"略称",null,null,null,"　※　漢字４文字以内",null,null,null,null,null,null,null,null,null,null,"女","助手"]
[null,"略称フリガナ",null,null,null,null,null,null,null,null,null,null,null,null,null,null,null,"外部"]
[null,"所在地"]
[null,"連絡先（電話）"]
[null,"連絡先（FAX）"]
[null,"学校長名"]
["高体連学校番号",null,null,null,"　※　シート　『高体連番号はこちら』を確認し入力"]
["日本水泳連盟登録団体番号",null,null,null,"　※　『４７』に続く３桁の数字のみを入力",null,null,null,null,null,null,null,null,null,null,null,null,"４７"]
["監督者\nデータ","氏名"]
[null,"フリガナ"]
[null,"性別",null,null,"　※　『男』 『女』"]
[null,"種別",null,null,null,"　※　『教諭』 『助手』 『外部』"]
[null,"連絡先（携帯番号）"]
["引率者\nデータ","氏名"]
[null,"フリガナ"]
[null,"性別",null,null,"　※　『男』　or　『女』"]
[]
["申込書（認知書）作成年月日",null,null,"令和",5,"年",null,"月",null,"日"]
[]
["エントリーデータ　貼付欄"]
[]
["リレー男子"]
["この下の水色の行から、リレーデータ（男子）を貼り付けてください。（上につめて）"]
["No","チーム名","チーム性別","種目","距離","クラス","TIME"]
[]
[]
[]
["リレー女子"]
["この下のピンク色の行から、リレーデータ（女子）を貼り付けてください。（上につめて）"]
["No","チーム名","チーム性別","種目","距離","クラス","TIME"]
[]
[]
[]
["個人種目男子"]
["この下の水色の行から、個人種目データ（男子）を貼り付けてください。（　※　女子は、更に下に貼付欄があります　）"]
[null,null,null,null,null,null,null,null,"自由形",null,null,null,"背泳ぎ",null,null,"平泳ぎ",null,null,"ﾊﾞﾀﾌﾗｲ",null,null,"個人ﾒﾄﾞﾚｰ"]
["ＳＱ","登録番号","氏名","カナ","学種","学年",null,"性別","５０ｍ","１００ｍ","２００ｍ","４００ｍ","５０ｍ","１００ｍ","２００ｍ","５０ｍ","１００ｍ","２００ｍ","５０ｍ","１００ｍ","２００ｍ","２００ｍ","４００ｍ"]
[]
[]
[]
[]
[]
[]
[]
[]
[]
[]
[]
[]
[]
[]
[]
[]
[]
[]
[]
[]
[]
[]
[]
[]
[]
[]
[]
[]
[]
[]
[]
[]
[]
[]
[]
[]
[]
[]
[]
[]
["個人種目女子"]
["この下のピンク色の行から、個人種目データ（女子）を貼り付けてください。"]
[null,null,null,null,null,null,null,null,"自由形",null,null,null,"背泳ぎ",null,null,"平泳ぎ",null,null,"ﾊﾞﾀﾌﾗｲ",null,null,"個人ﾒﾄﾞﾚｰ"]
["ＳＱ","登録番号","氏名","カナ","学種","学年",null,"性別","５０ｍ","１００ｍ","２００ｍ","４００ｍ","５０ｍ","１００ｍ","２００ｍ","５０ｍ","１００ｍ","２００ｍ","５０ｍ","１００ｍ","２００ｍ","２００ｍ","４００ｍ"]

{"sheet":"申込一覧表","index":1,"n_rows":188,"n_cols":52,"rows_kept":188,"cut":false,"hidden":false,"merged":[[187,8,187,19],[187,22,187,23],[57,0,59,2],[104,0,106,2],[151,0,153,2],[155,0,156,5],[93,8,93,19],[93,22,93,23],[140,8,140,19],[140,22,140,23],[108,7,109,10],[108,0,109,5],[100,0,100,2],[118,1,118,4],[118,5,118,14],[119,1,119,4],[108,11,109,19],[117,1,117,4],[126,1,126,4],[126,5,126,14],[126,15,126,19],[127,1,127,4],[127,5,127,14],[127,15,127,19],[111,36,113,36],[124,15,124,19],[112,25,112,27],[112,28,112,30],[112,31,112,33],[112,34,112,35],[118,15,118,19],[123,15,123,19],[119,15,119,19],[111,20,113,20],[111,21,111,35],[114,15,114,19],[121,15,121,19],[111,37,113,37],[158,36,160,36],[158,37,160,37],[39,1,39,4],[45,10,45,11],[45,4,45,5],[45,7,45,8],[46,8,46,19],[136,31,136,32],[135,31,135,32],[56,0,56,2],[61,31,61,35],[62,25,62,30],[57,3,59,8],[56,9,56,12],[111,0,113,0],[114,5,114,14],[117,5,117,14],[117,15,117,19],[104,3,106,8],[104,9,106,12],[104,13,106,14],[111,1,113,4],[111,5,113,14],[17,36,19,36],[17,37,19,37],[64,36,66,36],[64,37,66,37],[17,15,19,19],[17,5,19,14],[46,22,46,23],[39,15,39,19],[39,5,39,14],[51,27,52,35],[17,21,17,35],[17,20,19,20],[33,15,33,19],[65,28,65,30],[53,3,53,16],[53,27,53,35],[47,31,47,35],[50,0,50,35],[42,31,42,32],[64,0,66,0],[64,1,66,4],[61,11,62,19],[61,7,62,10],[61,0,62,5],[17,1,19,4],[23,15,23,19],[21,5,21,14],[21,15,21,19],[22,1,22,4],[22,5,22,14],[22,15,22,19],[20,5,20,14],[20,1,20,4],[20,15,20,19],[183,31,183,32],[182,31,182,32],[23,1,23,4],[23,5,23,14],[41,16,41,19],[24,1,24,4],[34,1,34,4],[34,5,34,14],[34,15,34,19],[46,25,46,33],[48,31,49,35],[106,15,106,17],[73,15,73,19],[55,28,55,35],[101,3,102,16],[61,25,61,30],[57,9,59,12],[67,1,67,4],[62,31,62,35],[89,31,89,32],[101,0,102,2],[103,0,103,2],[103,3,103,8],[103,9,103,12],[14,0,15,5],[0,51,12,51],[0,50,12,50],[0,46,12,46],[0,47,12,47],[0,48,12,48],[0,49,12,49],[14,7,15,10],[14,11,15,19],[14,25,14,30],[14,31,14,35],[14,20,14,24],[15,20,15,24],[15,25,15,30],[15,31,15,35],[12,15,12,17],[10,23,11,24],[10,35,12,35],[9,28,9,34],[10,28,12,33],[12,18,12,24],[10,26,12,27],[9,26,9,27],[10,25,12,25],[7,0,8,2],[9,13,9,14],[10,13,12,14],[6,27,6,35],[8,28,8,35],[7,28,7,35],[7,17,8,26],[6,17,6,26],[9,0,9,2],[32,1,32,4],[47,42,59,42],[94,46,106,46],[47,44,59,44],[47,46,59,46],[100,27,100,35],[101,28,101,35],[47,43,59,43],[64,21,64,35],[65,21,65,24],[65,25,65,27],[88,31,88,32],[65,31,65,33],[65,34,65,35],[33,1,33,4],[64,15,66,19],[33,5,33,14],[56,15,56,24],[64,20,66,20],[64,5,66,14],[38,1,38,4],[38,5,38,14],[38,15,38,19],[53,0,53,2],[35,1,35,4],[35,5,35,14],[36,1,36,4],[54,0,55,2],[37,1,37,4],[37,5,37,14],[47,50,59,50],[57,13,59,14],[57,25,59,25],[57,35,59,35],[47,49,59,49],[47,47,59,47],[54,28,54,35],[56,13,56,14],[47,41,59,41],[54,3,55,16],[29,1,29,4],[29,5,29,14],[29,15,29,19],[31,15,31,19],[31,1,31,4],[28,1,28,4],[28,5,28,14],[28,15,28,19],[30,1,30,4],[30,15,30,19],[26,1,26,4],[21,1,21,4],[24,5,24,14],[25,1,25,4],[27,1,27,4],[27,5,27,14],[30,5,30,14],[116,1,116,4],[47,51,59,51],[59,15,59,17],[25,5,25,14],[25,15,25,19],[26,5,26,14],[36,15,36,19],[37,15,37,19],[47,48,59,48],[31,5,31,14],[109,25,109,30],[116,5,116,14],[116,15,116,19],[114,1,114,4],[115,1,115,4],[115,5,115,14],[115,15,115,19],[94,47,106,47],[67,5,67,14],[67,15,67,19],[70,15,70,19],[94,42,106,42],[74,5,74,14],[74,15,74,19],[86,15,86,19],[104,15,105,22],[102,28,102,35],[94,31,94,35],[104,25,106,25],[104,35,106,35],[94,51,106,51],[94,48,106,48],[100,3,100,16],[94,43,106,43],[103,13,103,14],[94,49,106,49],[125,15,125,19],[121,1,121,4],[121,5,121,14],[94,50,106,50],[94,44,106,44],[94,41,106,41],[97,0,97,35],[98,27,99,35],[120,5,120,14],[120,1,120,4],[122,1,122,4],[125,1,125,4],[125,5,125,14],[119,5,119,14],[104,26,106,27],[111,15,113,19],[112,21,112,24],[108,25,108,30],[128,1,128,4],[128,5,128,14],[128,15,128,19],[123,5,123,14],[124,5,124,14],[129,15,129,19],[130,5,130,14],[130,15,130,19],[131,1,131,4],[131,5,131,14],[131,15,131,19],[130,1,130,4],[123,1,123,4],[124,1,124,4],[71,1,71,4],[71,5,71,14],[71,15,71,19],[68,1,68,4],[129,1,129,4],[129,5,129,14],[68,5,68,14],[68,15,68,19],[69,1,69,4],[69,5,69,14],[77,5,77,14],[77,15,77,19],[78,1,78,4],[78,5,78,14],[78,15,78,19],[79,1,79,4],[79,5,79,14],[79,15,79,19],[80,1,80,4],[80,5,80,14],[80,15,80,19],[81,1,81,4],[81,5,81,14],[81,15,81,19],[139,4,139,5],[139,7,139,8],[139,10,139,11],[133,1,133,4],[133,5,133,14],[135,16,135,19],[133,15,133,19],[70,1,70,4],[70,5,70,14],[132,1,132,4],[72,1,72,4],[72,5,72,14],[72,15,72,19],[73,1,73,4],[73,5,73,14],[74,1,74,4],[132,5,132,14],[75,1,75,4],[75,5,75,14],[75,15,75,19],[76,1,76,4],[76,5,76,14],[76,15,76,19],[77,1,77,4],[82,1,82,4],[82,5,82,14],[82,15,82,19],[83,1,83,4],[83,5,83,14],[83,15,83,19],[84,1,84,4],[84,5,84,14],[92,4,92,5],[92,7,92,8],[92,10,92,11],[85,1,85,4],[85,5,85,14],[86,1,86,4],[85,15,85,19],[148,28,148,35],[149,28,149,35],[150,28,150,34],[145,27,146,35],[147,0,147,2],[147,3,147,16],[147,17,147,26],[153,18,153,24],[151,13,153,14],[151,25,153,25],[151,15,152,22],[151,23,152,24],[141,51,153,51],[147,27,147,35],[141,49,153,49],[141,50,153,50],[144,0,144,35],[151,3,153,8],[151,9,153,12],[151,26,153,27],[151,28,153,33],[153,15,153,17],[148,17,149,26],[150,26,150,27],[150,0,150,2],[150,3,150,8],[141,47,153,47],[141,48,153,48],[141,42,153,42],[141,43,153,43],[141,44,153,44],[141,46,153,46],[141,41,153,41],[142,31,143,35],[148,0,149,2],[148,3,149,16],[156,20,156,24],[156,25,156,30],[156,31,156,35],[155,7,156,10],[155,11,156,19],[155,20,155,24],[155,25,155,30],[158,0,160,0],[158,1,160,4],[158,5,160,14],[158,15,160,19],[158,20,160,20],[158,21,158,35],[159,21,159,24],[159,25,159,27],[159,28,159,30],[159,31,159,33],[159,34,159,35],[161,1,161,4],[161,5,161,14],[161,15,161,19],[162,1,162,4],[162,5,162,14],[162,15,162,19],[163,1,163,4],[163,5,163,14],[163,15,163,19],[171,15,171,19],[172,1,172,4],[172,15,172,19],[173,1,173,4],[173,5,173,14],[169,1,169,4],[169,5,169,14],[164,1,164,4],[164,5,164,14],[164,15,164,19],[165,1,165,4],[165,5,165,14],[165,15,165,19],[166,15,166,19],[167,15,167,19],[168,1,168,4],[168,5,168,14],[168,15,168,19],[167,5,167,14],[167,1,167,4],[122,5,122,14],[122,15,122,19],[177,15,177,19],[150,15,150,24],[178,1,178,4],[178,5,178,14],[178,15,178,19],[175,1,175,4],[175,5,175,14],[175,15,175,19],[176,1,176,4],[174,15,174,19],[176,5,176,14],[176,15,176,19],[177,1,177,4],[177,5,177,14],[173,15,173,19],[174,1,174,4],[169,15,169,19],[170,1,170,4],[170,5,170,14],[170,15,170,19],[171,1,171,4],[171,5,171,14],[186,4,186,5],[186,7,186,8],[186,10,186,11],[180,1,180,4],[180,5,180,14],[10,0,12,2],[174,5,174,14],[172,5,172,14],[166,1,166,4],[166,5,166,14],[86,5,86,14],[142,7,143,25],[150,9,150,12],[150,13,150,14],[140,25,140,33],[109,20,109,24],[141,31,141,35],[104,23,105,24],[132,15,132,19],[179,1,179,4],[180,15,180,19],[179,5,179,14],[179,15,179,19],[120,15,120,19],[0,44,12,44],[0,41,12,41],[0,42,12,42],[0,43,12,43],[18,25,18,27],[18,28,18,30],[18,31,18,33],[3,0,3,35],[4,27,5,35],[1,31,2,35],[0,31,0,35],[1,7,2,25],[17,0,19,0],[18,34,18,35],[18,21,18,24],[9,15,9,24],[10,15,11,22],[6,0,6,2],[7,3,8,16],[6,3,6,16],[10,3,12,8],[9,3,9,8],[9,9,9,12],[10,9,12,12],[187,25,187,33],[155,31,155,35],[108,31,108,35],[151,35,153,35],[182,16,182,19],[62,20,62,24],[41,31,41,32],[56,26,56,27],[56,28,56,34],[57,15,58,22],[57,23,58,24],[57,26,59,27],[54,17,55,26],[48,7,49,25],[56,3,56,8],[84,15,84,19],[109,31,109,35],[108,20,108,24],[104,28,106,33],[69,15,69,19],[106,18,106,24],[100,17,100,26],[95,31,96,35],[88,16,88,19],[24,15,24,19],[26,15,26,19],[57,28,59,33],[59,18,59,24],[103,26,103,27],[103,28,103,34],[93,25,93,33],[101,17,102,26],[103,15,103,24],[61,20,61,24],[95,7,96,25],[27,15,27,19],[32,5,32,14],[32,15,32,19],[35,15,35,19],[36,5,36,14],[53,17,53,26]]}
["沖縄県高等学校体育連盟会長　　殿",null,null,null,null,null,null,null,null,null,null,null,null,null,null,null,null,null,null,null,null,null,null,null,null,null,null,null,null,null,null,"高体連\n学校番号",null,null,null,null,null,null,null,null,null,"男子個人種目数","女子個人種目数","男個人記入ミス","女個人記入ミス",null,"男子個人種目数②","女子個人種目数②","男子参加者数①","男子参加者数②","女子参加者数①","女子参加者数②"]
[null,null,null,null,null,null,null,"令和５年度沖縄県高等学校新人体育大会\n水泳競技大会",null,null,null,null,null,null,null,null,null,null,null,null,null,null,null,null,null,null,null,null,null,null,null,{"$f":"データ入力・貼付シート!$D$9","v":0}]
[]
["水 泳 競 技 申 込 一 覧 表"]
[null,null,null,null,null,null,null,null,null,null,null,null,null,null,null,null,null,null,null,null,null,null,null,null,null,null,null,"枚中の　   枚目"]
[]
["フリガナ",null,null,{"$f":"PHONETIC(データ入力・貼付シート!$D$2)","v":""},null,null,null,null,null,null,null,null,null,null,null,null,null,"学　　　校　　　所　　　在　　　地",null,null,null,null,null,null,null,null,null,"学校連絡先"]
["学　校\n正式名称",null,null,{"$f":"データ入力・貼付シート!$D$2","v":0},null,null,null,null,null,null,null,null,null,null,null,null,null,{"$f":"データ入力・貼付シート!$D$5","v":0},null,null,null,null,null,null,null,null,null,"TEL",{"$f":"データ入力・貼付シート!$D$6","v":0}]
[null,null,null,null,null,null,null,null,null,null,null,null,null,null,null,null,null,null,null,null,null,null,null,null,null,null,null,"FAX",{"$f":"データ入力・貼付シート!$D$7","v":0}]
["日本水泳連盟\n登録団体番号",null,null,"学　校　名　略　称",null,null,null,null,null,"略称フリガナ",null,null,null,"フリガナ",null,{"$f":"データ入力・貼付シート!$D$12","v":0},null,null,null,null,null,null,null,null,null,"性","フリガナ",null,{"$f":"データ入力・貼付シート!$D$17","v":0},null,null,null,null,null,null,"性"]
[{"$f":"CONCATENATE(データ入力・貼付シート!$R$10,データ入力・貼付シート!$D$10)","v":"４７"},null,null,{"$f":"データ入力・貼付シート!$D$3","v":0},null,null,null,null,null,{"$f":"データ入力・貼付シート!$D$4","v":0},null,null,null,"監督者",null,{"$f":"データ入力・貼付シート!$D$11","v":0},null,null,null,null,null,null,null,{"$f":"データ入力・貼付シート!$D$14","v":0},null,{"$f":"データ入力・貼付シート!$D$13","v":0},"引率\n責任者",null,{"$f":"データ入力・貼付シート!$D$16","v":0},null,null,null,null,null,null,{"$f":"データ入力・貼付シート!$D$18","v":0},null,null,null,null,null,null,null,null,null,{"$f":"COUNTIF(#REF!,\"記入ミス\")","v":{"$error":"#REF!"}}]
[]
[null,null,null,null,null,null,null,null,null,null,null,null,null,null,null,"緊急連絡先",null,null,{"$f":"データ入力・貼付シート!$D$15","v":0},null,null,null,null,null,null,null,null,null,null,null,null,null,null,null,null,null,null,null,null,null,null,null,null,null,null,"R記入ミス"]
[]
["リレー申込欄",null,null,null,null,null,null,"学校名",null,null,null,{"$f":"データ入力・貼付シート!$B$27","v":0},null,null,null,null,null,null,null,null,{"$f":"データ入力・貼付シート!$D$27","v":0},null,null,null,null,{"$f":"データ入力・貼付シート!$E$27","v":0},null,null,null,null,null,{"$f":"データ入力・貼付シート!$G$27","v":"00:00:00"},null,null,null,null,{"$f":"IF(Z15>M198,1,\"\")","v":""}]
[null,null,null,null,null,null,null,null,null,null,null,null,null,null,null,null,null,null,null,null,{"$f":"データ入力・貼付シート!$D$28","v":0},null,null,null,null,{"$f":"データ入力・貼付シート!$E$28","v":0},null,null,null,null,null,{"$f":"データ入力・貼付シート!$G$28","v":"00:00:00"},null,null,null,null,{"$f":"IF(Z16>M199,1,\"\")","v":""}]
[]
["№","登録番号",null,null,null,"氏　　名",null,null,null,null,null,null,null,null,null,"フリガナ",null,null,null,null,"学年","出　　　　　場　　　　　種　　　　　目",null,null,null,null,null,null,null,null,null,null,null,null,null,null,"参加人数","種目数"]
[null,null,null,null,null,null,null,null,null,null,null,null,null,null,null,null,null,null,null,null,null,"自由形",null,null,null,"背泳ぎ",null,null,"平泳ぎ",null,null,"ﾊﾞﾀﾌﾗｲ",null,null,"個人ﾒﾄﾞﾚｰ"]
[null,null,null,null,null,null,null,null,null,null,null,null,null,null,null,null,null,null,null,null,null,50,100,200,400,50,100,200,50,100,200,50,100,200,200,400]
[1,{"$f":"データ入力・貼付シート!B40","v":0},null,null,null,{"$f":"データ入力・貼付シート!C40","v":0},null,null,null,null,null,null,null,null,null,{"$f":"データ入力・貼付シート!D40","v":0},null,null,null,null,{"$f":"データ入力・貼付シート!F40","v":0},{"$f":"データ入力・貼付シート!I40","v":0},{"$f":"データ入力・貼付シート!J40","v":0},{"$f":"データ入力・貼付シート!K40","v":0},{"$f":"データ入力・貼付シート!L40","v":0},{"$f":"データ入力・貼付シート!M40","v":0},{"$f":"データ入力・貼付シート!N40","v":0},{"$f":"データ入力・貼付シート!O40","v":0},{"$f":"データ入力・貼付シート!P40","v":0},{"$f":"データ入力・貼付シート!Q40","v":0},{"$f":"データ入力・貼付シート!R40","v":0},{"$f":"データ入力・貼付シート!S40","v":0},{"$f":"データ入力・貼付シート!T40","v":0},{"$f":"データ入力・貼付シート!U40","v":0},{"$f":"データ入力・貼付シート!V40","v":0},{"$f":"データ入力・貼付シート!W40","v":0},{"$f":"IF(B21>1,\"1\",\"\")","v":""},{"$f":"SUM(V21:AJ21)","v":0}]
[2,{"$f":"データ入力・貼付シート!B41","v":0},null,null,null,{"$f":"データ入力・貼付シート!C41","v":0},null,null,null,null,null,null,null,null,null,{"$f":"データ入力・貼付シート!D41","v":0},null,null,null,null,{"$f":"データ入力・貼付シート!F41","v":0},{"$f":"データ入力・貼付シート!I41","v":0},{"$f":"データ入力・貼付シート!J41","v":0},{"$f":"データ入力・貼付シート!K41","v":0},{"$f":"データ入力・貼付シート!L41","v":0},{"$f":"データ入力・貼付シート!M41","v":0},{"$f":"データ入力・貼付シート!N41","v":0},{"$f":"データ入力・貼付シート!O41","v":0},{"$f":"データ入力・貼付シート!P41","v":0},{"$f":"データ入力・貼付シート!Q41","v":0},{"$f":"データ入力・貼付シート!R41","v":0},{"$f":"データ入力・貼付シート!S41","v":0},{"$f":"データ入力・貼付シート!T41","v":0},{"$f":"データ入力・貼付シート!U41","v":0},{"$f":"データ入力・貼付シート!V41","v":0},{"$f":"データ入力・貼付シート!W41","v":0},{"$f":"IF(B22>1,\"1\",\"\")","v":""},{"$f":"SUM(V22:AJ22)","v":0}]
[3,{"$f":"データ入力・貼付シート!B42","v":0},null,null,null,{"$f":"データ入力・貼付シート!C42","v":0},null,null,null,null,null,null,null,null,null,{"$f":"データ入力・貼付シート!D42","v":0},null,null,null,null,{"$f":"データ入力・貼付シート!F42","v":0},{"$f":"データ入力・貼付シート!I42","v":0},{"$f":"データ入力・貼付シート!J42","v":0},{"$f":"データ入力・貼付シート!K42","v":0},{"$f":"データ入力・貼付シート!L42","v":0},{"$f":"データ入力・貼付シート!M42","v":0},{"$f":"データ入力・貼付シート!N42","v":0},{"$f":"データ入力・貼付シート!O42","v":0},{"$f":"データ入力・貼付シート!P42","v":0},{"$f":"データ入力・貼付シート!Q42","v":0},{"$f":"データ入力・貼付シート!R42","v":0},{"$f":"データ入力・貼付シート!S42","v":0},{"$f":"データ入力・貼付シート!T42","v":0},{"$f":"データ入力・貼付シート!U42","v":0},{"$f":"データ入力・貼付シート!V42","v":0},{"$f":"データ入力・貼付シート!W42","v":0},"",0]
[4,{"$f":"データ入力・貼付シート!B43","v":0},null,null,null,{"$f":"データ入力・貼付シート!C43","v":0},null,null,null,null,null,null,null,null,null,{"$f":"データ入力・貼付シート!D43","v":0},null,null,null,null,{"$f":"データ入力・貼付シート!F43","v":0},{"$f":"データ入力・貼付シート!I43","v":0},{"$f":"データ入力・貼付シート!J43","v":0},{"$f":"データ入力・貼付シート!K43","v":0},{"$f":"データ入力・貼付シート!L43","v":0},{"$f":"データ入力・貼付シート!M43","v":0},{"$f":"データ入力・貼付シート!N43","v":0},{"$f":"データ入力・貼付シート!O43","v":0},{"$f":"データ入力・貼付シート!P43","v":0},{"$f":"データ入力・貼付シート!Q43","v":0},{"$f":"データ入力・貼付シート!R43","v":0},{"$f":"データ入力・貼付シート!S43","v":0},{"$f":"データ入力・貼付シート!T43","v":0},{"$f":"データ入力・貼付シート!U43","v":0},{"$f":"データ入力・貼付シート!V43","v":0},{"$f":"データ入力・貼付シート!W43","v":0},{"$f":"IF(B24>1,\"1\",\"\")","v":""},0]
[5,{"$f":"データ入力・貼付シート!B44","v":0},null,null,null,{"$f":"データ入力・貼付シート!C44","v":0},null,null,null,null,null,null,null,null,null,{"$f":"データ入力・貼付シート!D44","v":0},null,null,null,null,{"$f":"データ入力・貼付シート!F44","v":0},{"$f":"データ入力・貼付シート!I44","v":0},{"$f":"データ入力・貼付シート!J44","v":0},{"$f":"データ入力・貼付シート!K44","v":0},{"$f":"データ入力・貼付シート!L44","v":0},{"$f":"データ入力・貼付シート!M44","v":0},{"$f":"データ入力・貼付シート!N44","v":0},{"$f":"データ入力・貼付シート!O44","v":0},{"$f":"データ入力・貼付シート!P44","v":0},{"$f":"データ入力・貼付シート!Q44","v":0},{"$f":"データ入力・貼付シート!R44","v":0},{"$f":"データ入力・貼付シート!S44","v":0},{"$f":"データ入力・貼付シート!T44","v":0},{"$f":"データ入力・貼付シート!U44","v":0},{"$f":"データ入力・貼付シート!V44","v":0},{"$f":"データ入力・貼付シート!W44","v":0},"",0]
[6,{"$f":"データ入力・貼付シート!B45","v":0},null,null,null,{"$f":"データ入力・貼付シート!C45","v":0},null,null,null,null,null,null,null,null,null,{"$f":"データ入力・貼付シート!D45","v":0},null,null,null,null,{"$f":"データ入力・貼付シート!F45","v":0},{"$f":"データ入力・貼付シート!I45","v":0},{"$f":"データ入力・貼付シート!J45","v":0},{"$f":"データ入力・貼付シート!K45","v":0},{"$f":"データ入力・貼付シート!L45","v":0},{"$f":"データ入力・貼付シート!M45","v":0},{"$f":"データ入力・貼付シート!N45","v":0},{"$f":"データ入力・貼付シート!O45","v":0},{"$f":"データ入力・貼付シート!P45","v":0},{"$f":"データ入力・貼付シート!Q45","v":0},{"$f":"データ入力・貼付シート!R45","v":0},{"$f":"データ入力・貼付シート!S45","v":0},{"$f":"データ入力・貼付シート!T45","v":0},{"$f":"データ入力・貼付シート!U45","v":0},{"$f":"データ入力・貼付シート!V45","v":0},{"$f":"データ入力・貼付シート!W45","v":0},"",0]
[7,{"$f":"データ入力・貼付シート!B46","v":0},null,null,null,{"$f":"データ入力・貼付シート!C46","v":0},null,null,null,null,null,null,null,null,null,{"$f":"データ入力・貼付シート!D46","v":0},null,null,null,null,{"$f":"データ入力・貼付シート!F46","v":0},{"$f":"データ入力・貼付シート!I46","v":0},{"$f":"データ入力・貼付シート!J46","v":0},{"$f":"データ入力・貼付シート!K46","v":0},{"$f":"データ入力・貼付シート!L46","v":0},{"$f":"データ入力・貼付シート!M46","v":0},{"$f":"データ入力・貼付シート!N46","v":0},{"$f":"データ入力・貼付シート!O46","v":0},{"$f":"データ入力・貼付シート!P46","v":0},{"$f":"データ入力・貼付シート!Q46","v":0},{"$f":"データ入力・貼付シート!R46","v":0},{"$f":"データ入力・貼付シート!S46","v":0},{"$f":"データ入力・貼付シート!T46","v":0},{"$f":"データ入力・貼付シート!U46","v":0},{"$f":"データ入力・貼付シート!V46","v":0},{"$f":"データ入力・貼付シート!W46","v":0},"",0]
[8,{"$f":"データ入力・貼付シート!B47","v":0},null,null,null,{"$f":"データ入力・貼付シート!C47","v":0},null,null,null,null,null,null,null,null,null,{"$f":"データ入力・貼付シート!D47","v":0},null,null,null,null,{"$f":"データ入力・貼付シート!F47","v":0},{"$f":"データ入力・貼付シート!I47","v":0},{"$f":"データ入力・貼付シート!J47","v":0},{"$f":"データ入力・貼付シート!K47","v":0},{"$f":"データ入力・貼付シート!L47","v":0},{"$f":"データ入力・貼付シート!M47","v":0},{"$f":"データ入力・貼付シート!N47","v":0},{"$f":"データ入力・貼付シート!O47","v":0},{"$f":"データ入力・貼付シート!P47","v":0},{"$f":"データ入力・貼付シート!Q47","v":0},{"$f":"データ入力・貼付シート!R47","v":0},{"$f":"データ入力・貼付シート!S47","v":0},{"$f":"データ入力・貼付シート!T47","v":0},{"$f":"データ入力・貼付シート!U47","v":0},{"$f":"データ入力・貼付シート!V47","v":0},{"$f":"データ入力・貼付シート!W47","v":0},"",0]
[9,{"$f":"データ入力・貼付シート!B48","v":0},null,null,null,{"$f":"データ入力・貼付シート!C48","v":0},null,null,null,null,null,null,null,null,null,{"$f":"データ入力・貼付シート!D48","v":0},null,null,null,null,{"$f":"データ入力・貼付シート!F48","v":0},{"$f":"データ入力・貼付シート!I48","v":0},{"$f":"データ入力・貼付シート!J48","v":0},{"$f":"データ入力・貼付シート!K48","v":0},{"$f":"データ入力・貼付シート!L48","v":0},{"$f":"データ入力・貼付シート!M48","v":0},{"$f":"データ入力・貼付シート!N48","v":0},{"$f":"データ入力・貼付シート!O48","v":0},{"$f":"データ入力・貼付シート!P48","v":0},{"$f":"データ入力・貼付シート!Q48","v":0},{"$f":"データ入力・貼付シート!R48","v":0},{"$f":"データ入力・貼付シート!S48","v":0},{"$f":"データ入力・貼付シート!T48","v":0},{"$f":"データ入力・貼付シート!U48","v":0},{"$f":"データ入力・貼付シート!V48","v":0},{"$f":"データ入力・貼付シート!W48","v":0},"",0]
[10,{"$f":"データ入力・貼付シート!B49","v":0},null,null,null,{"$f":"データ入力・貼付シート!C49","v":0},null,null,null,null,null,null,null,null,null,{"$f":"データ入力・貼付シート!D49","v":0},null,null,null,null,{"$f":"データ入力・貼付シート!F49","v":0},{"$f":"データ入力・貼付シート!I49","v":0},{"$f":"データ入力・貼付シート!J49","v":0},{"$f":"データ入力・貼付シート!K49","v":0},{"$f":"データ入力・貼付シート!L49","v":0},{"$f":"データ入力・貼付シート!M49","v":0},{"$f":"データ入力・貼付シート!N49","v":0},{"$f":"データ入力・貼付シート!O49","v":0},{"$f":"データ入力・貼付シート!P49","v":0},{"$f":"データ入力・貼付シート!Q49","v":0},{"$f":"データ入力・貼付シート!R49","v":0},{"$f":"データ入力・貼付シート!S49","v":0},{"$f":"データ入力・貼付シート!T49","v":0},{"$f":"データ入力・貼付シート!U49","v":0},{"$f":"データ入力・貼付シート!V49","v":0},{"$f":"データ入力・貼付シート!W49","v":0},"",0]
[11,{"$f":"データ入力・貼付シート!B50","v":0},null,null,null,{"$f":"データ入力・貼付シート!C50","v":0},null,null,null,null,null,null,null,null,null,{"$f":"データ入力・貼付シート!D50","v":0},null,null,null,null,{"$f":"データ入力・貼付シート!F50","v":0},{"$f":"データ入力・貼付シート!I50","v":0},{"$f":"データ入力・貼付シート!J50","v":0},{"$f":"データ入力・貼付シート!K50","v":0},{"$f":"データ入力・貼付シート!L50","v":0},{"$f":"データ入力・貼付シート!M50","v":0},{"$f":"データ入力・貼付シート!N50","v":0},{"$f":"データ入力・貼付シート!O50","v":0},{"$f":"データ入力・貼付シート!P50","v":0},{"$f":"データ入力・貼付シート!Q50","v":0},{"$f":"データ入力・貼付シート!R50","v":0},{"$f":"データ入力・貼付シート!S50","v":0},{"$f":"データ入力・貼付シート!T50","v":0},{"$f":"データ入力・貼付シート!U50","v":0},{"$f":"データ入力・貼付シート!V50","v":0},{"$f":"データ入力・貼付シート!W50","v":0},"",0]
[12,{"$f":"データ入力・貼付シート!B51","v":0},null,null,null,{"$f":"データ入力・貼付シート!C51","v":0},null,null,null,null,null,null,null,null,null,{"$f":"データ入力・貼付シート!D51","v":0},null,null,null,null,{"$f":"データ入力・貼付シート!F51","v":0},{"$f":"データ入力・貼付シート!I51","v":0},{"$f":"データ入力・貼付シート!J51","v":0},{"$f":"データ入力・貼付シート!K51","v":0},{"$f":"データ入力・貼付シート!L51","v":0},{"$f":"データ入力・貼付シート!M51","v":0},{"$f":"データ入力・貼付シート!N51","v":0},{"$f":"データ入力・貼付シート!O51","v":0},{"$f":"データ入力・貼付シート!P51","v":0},{"$f":"データ入力・貼付シート!Q51","v":0},{"$f":"データ入力・貼付シート!R51","v":0},{"$f":"データ入力・貼付シート!S51","v":0},{"$f":"データ入力・貼付シート!T51","v":0},{"$f":"データ入力・貼付シート!U51","v":0},{"$f":"データ入力・貼付シート!V51","v":0},{"$f":"データ入力・貼付シート!W51","v":0},"",0]
[13,{"$f":"データ入力・貼付シート!B52","v":0},null,null,null,{"$f":"データ入力・貼付シート!C52","v":0},null,null,null,null,null,null,null,null,null,{"$f":"データ入力・貼付シート!D52","v":0},null,null,null,null,{"$f":"データ入力・貼付シート!F52","v":0},{"$f":"データ入力・貼付シート!I52","v":0},{"$f":"データ入力・貼付シート!J52","v":0},{"$f":"データ入力・貼付シート!K52","v":0},{"$f":"データ入力・貼付シート!L52","v":0},{"$f":"データ入力・貼付シート!M52","v":0},{"$f":"データ入力・貼付シート!N52","v":0},{"$f":"データ入力・貼付シート!O52","v":0},{"$f":"データ入力・貼付シート!P52","v":0},{"$f":"データ入力・貼付シート!Q52","v":0},{"$f":"データ入力・貼付シート!R52","v":0},{"$f":"データ入力・貼付シート!S52","v":0},{"$f":"データ入力・貼付シート!T52","v":0},{"$f":"データ入力・貼付シート!U52","v":0},{"$f":"データ入力・貼付シート!V52","v":0},{"$f":"データ入力・貼付シート!W52","v":0},"",0]
[14,{"$f":"データ入力・貼付シート!B53","v":0},null,null,null,{"$f":"データ入力・貼付シート!C53","v":0},null,null,null,null,null,null,null,null,null,{"$f":"データ入力・貼付シート!D53","v":0},null,null,null,null,{"$f":"データ入力・貼付シート!F53","v":0},{"$f":"データ入力・貼付シート!I53","v":0},{"$f":"データ入力・貼付シート!J53","v":0},{"$f":"データ入力・貼付シート!K53","v":0},{"$f":"データ入力・貼付シート!L53","v":0},{"$f":"データ入力・貼付シート!M53","v":0},{"$f":"データ入力・貼付シート!N53","v":0},{"$f":"データ入力・貼付シート!O53","v":0},{"$f":"データ入力・貼付シート!P53","v":0},{"$f":"データ入力・貼付シート!Q53","v":0},{"$f":"データ入力・貼付シート!R53","v":0},{"$f":"データ入力・貼付シート!S53","v":0},{"$f":"データ入力・貼付シート!T53","v":0},{"$f":"データ入力・貼付シート!U53","v":0},{"$f":"データ入力・貼付シート!V53","v":0},{"$f":"データ入力・貼付シート!W53","v":0},"",0]
[15,{"$f":"データ入力・貼付シート!B54","v":0},null,null,null,{"$f":"データ入力・貼付シート!C54","v":0},null,null,null,null,null,null,null,null,null,{"$f":"データ入力・貼付シート!D54","v":0},null,null,null,null,{"$f":"データ入力・貼付シート!F54","v":0},{"$f":"データ入力・貼付シート!I54","v":0},{"$f":"データ入力・貼付シート!J54","v":0},{"$f":"データ入力・貼付シート!K54","v":0},{"$f":"データ入力・貼付シート!L54","v":0},{"$f":"データ入力・貼付シート!M54","v":0},{"$f":"データ入力・貼付シート!N54","v":0},{"$f":"データ入力・貼付シート!O54","v":0},{"$f":"データ入力・貼付シート!P54","v":0},{"$f":"データ入力・貼付シート!Q54","v":0},{"$f":"データ入力・貼付シート!R54","v":0},{"$f":"データ入力・貼付シート!S54","v":0},{"$f":"データ入力・貼付シート!T54","v":0},{"$f":"データ入力・貼付シート!U54","v":0},{"$f":"データ入力・貼付シート!V54","v":0},{"$f":"データ入力・貼付シート!W54","v":0},"",0]
[16,{"$f":"データ入力・貼付シート!B55","v":0},null,null,null,{"$f":"データ入力・貼付シート!C55","v":0},null,null,null,null,null,null,null,null,null,{"$f":"データ入力・貼付シート!D55","v":0},null,null,null,null,{"$f":"データ入力・貼付シート!F55","v":0},{"$f":"データ入力・貼付シート!I55","v":0},{"$f":"データ入力・貼付シート!J55","v":0},{"$f":"データ入力・貼付シート!K55","v":0},{"$f":"データ入力・貼付シート!L55","v":0},{"$f":"データ入力・貼付シート!M55","v":0},{"$f":"データ入力・貼付シート!N55","v":0},{"$f":"データ入力・貼付シート!O55","v":0},{"$f":"データ入力・貼付シート!P55","v":0},{"$f":"データ入力・貼付シート!Q55","v":0},{"$f":"データ入力・貼付シート!R55","v":0},{"$f":"データ入力・貼付シート!S55","v":0},{"$f":"データ入力・貼付シート!T55","v":0},{"$f":"データ入力・貼付シート!U55","v":0},{"$f":"データ入力・貼付シート!V55","v":0},{"$f":"データ入力・貼付シート!W55","v":0},"",0]
[17,{"$f":"データ入力・貼付シート!B56","v":0},null,null,null,{"$f":"データ入力・貼付シート!C56","v":0},null,null,null,null,null,null,null,null,null,{"$f":"データ入力・貼付シート!D56","v":0},null,null,null,null,{"$f":"データ入力・貼付シート!F56","v":0},{"$f":"データ入力・貼付シート!I56","v":0},{"$f":"データ入力・貼付シート!J56","v":0},{"$f":"データ入力・貼付シート!K56","v":0},{"$f":"データ入力・貼付シート!L56","v":0},{"$f":"データ入力・貼付シート!M56","v":0},{"$f":"データ入力・貼付シート!N56","v":0},{"$f":"データ入力・貼付シート!O56","v":0},{"$f":"データ入力・貼付シート!P56","v":0},{"$f":"データ入力・貼付シート!Q56","v":0},{"$f":"データ入力・貼付シート!R56","v":0},{"$f":"データ入力・貼付シート!S56","v":0},{"$f":"データ入力・貼付シート!T56","v":0},{"$f":"データ入力・貼付シート!U56","v":0},{"$f":"データ入力・貼付シート!V56","v":0},{"$f":"データ入力・貼付シート!W56","v":0},"",0]
[18,{"$f":"データ入力・貼付シート!B57","v":0},null,null,null,{"$f":"データ入力・貼付シート!C57","v":0},null,null,null,null,null,null,null,null,null,{"$f":"データ入力・貼付シート!D57","v":0},null,null,null,null,{"$f":"データ入力・貼付シート!F57","v":0},{"$f":"データ入力・貼付シート!I57","v":0},{"$f":"データ入力・貼付シート!J57","v":0},{"$f":"データ入力・貼付シート!K57","v":0},{"$f":"データ入力・貼付シート!L57","v":0},{"$f":"データ入力・貼付シート!M57","v":0},{"$f":"データ入力・貼付シート!N57","v":0},{"$f":"データ入力・貼付シート!O57","v":0},{"$f":"データ入力・貼付シート!P57","v":0},{"$f":"データ入力・貼付シート!Q57","v":0},{"$f":"データ入力・貼付シート!R57","v":0},{"$f":"データ入力・貼付シート!S57","v":0},{"$f":"データ入力・貼付シート!T57","v":0},{"$f":"データ入力・貼付シート!U57","v":0},{"$f":"データ入力・貼付シート!V57","v":0},{"$f":"データ入力・貼付シート!W57","v":0},"",0]
[19,{"$f":"データ入力・貼付シート!B58","v":0},null,null,null,{"$f":"データ入力・貼付シート!C58","v":0},null,null,null,null,null,null,null,null,null,{"$f":"データ入力・貼付シート!D58","v":0},null,null,null,null,{"$f":"データ入力・貼付シート!F58","v":0},{"$f":"データ入力・貼付シート!I58","v":0},{"$f":"データ入力・貼付シート!J58","v":0},{"$f":"データ入力・貼付シート!K58","v":0},{"$f":"データ入力・貼付シート!L58","v":0},{"$f":"データ入力・貼付シート!M58","v":0},{"$f":"データ入力・貼付シート!N58","v":0},{"$f":"データ入力・貼付シート!O58","v":0},{"$f":"データ入力・貼付シート!P58","v":0},{"$f":"データ入力・貼付シート!Q58","v":0},{"$f":"データ入力・貼付シート!R58","v":0},{"$f":"データ入力・貼付シート!S58","v":0},{"$f":"データ入力・貼付シート!T58","v":0},{"$f":"データ入力・貼付シート!U58","v":0},{"$f":"データ入力・貼付シート!V58","v":0},{"$f":"データ入力・貼付シート!W58","v":0},"",0]
[20,{"$f":"データ入力・貼付シート!B59","v":0},null,null,null,{"$f":"データ入力・貼付シート!C59","v":0},null,null,null,null,null,null,null,null,null,{"$f":"データ入力・貼付シート!D59","v":0},null,null,null,null,{"$f":"データ入力・貼付シート!F59","v":0},{"$f":"データ入力・貼付シート!I59","v":0},{"$f":"データ入力・貼付シート!J59","v":0},{"$f":"データ入力・貼付シート!K59","v":0},{"$f":"データ入力・貼付シート!L59","v":0},{"$f":"データ入力・貼付シート!M59","v":0},{"$f":"データ入力・貼付シート!N59","v":0},{"$f":"データ入力・貼付シート!O59","v":0},{"$f":"データ入力・貼付シート!P59","v":0},{"$f":"データ入力・貼付シート!Q59","v":0},{"$f":"データ入力・貼付シート!R59","v":0},{"$f":"データ入力・貼付シート!S59","v":0},{"$f":"データ入力・貼付シート!T59","v":0},{"$f":"データ入力・貼付シート!U59","v":0},{"$f":"データ入力・貼付シート!V59","v":0},{"$f":"データ入力・貼付シート!W59","v":0},"",0]
[]
[null,"男子","（",{"$f":"COUNTIF($AK$21:$AK$87,1)","v":0},"）","名","＋",null,"女子","（",{"$f":"COUNTIF($AK$115:$AK$181,2)","v":0},"）","名","＝",null,null,"参加選手合計",null,null,null,"（",{"$f":"$D$42+$K$42","v":0},"）","名",null,null,null,null,"個人種目",null,"（",{"$f":"SUM($AL$21:$AL$181)","v":0},null,"）","種目"]
[null,null,null,null,null,null,null,null,null,null,null,null,null,null,null,null,null,null,null,null,null,null,null,null,null,null,null,null,"リレー種目",null,"（",{"$f":"SUM($AK$15:$AK$16,$AK$109:$AK$110)","v":0},null,"）","種目"]
["①","下記の者は本校在学生徒であり、定期健康診断の結果異常なく、標記大会に出場することを認め参加申込をいたします。"]
["②","個人情報については「沖縄県高体連個人情報保護方針」を承諾した上で参加申込みすることに同意します。"]
[null,null,null,"令和",{"$f":"データ入力・貼付シート!$E$20","v":5},null,"年",{"$f":"データ入力・貼付シート!$G$20","v":0},null,"月",{"$f":"データ入力・貼付シート!$I$20","v":0},null,"日"]
[null,null,null,null,null,null,null,null,{"$f":"データ入力・貼付シート!$D$2","v":0},null,null,null,null,null,null,null,null,null,null,null,null,null,"校長",null,null,{"$f":"データ入力・貼付シート!$D$8","v":0}]
["沖縄県高等学校体育連盟会長　　殿",null,null,null,null,null,null,null,null,null,null,null,null,null,null,null,null,null,null,null,null,null,null,null,null,null,null,null,null,null,null,"高体連\n学校番号",null,null,null,null,null,null,null,null,null,"男子個人種目数","女子個人種目数","男個人記入ミス","女個人記入ミス",null,"男子個人種目数②","女子個人種目数②","男子参加者数①","男子参加者数②","女子参加者数①","女子参加者数②"]
[null,null,null,null,null,null,null,{"$f":"H2","v":"令和５年度沖縄県高等学校新人体育大会\n水泳競技大会"},null,null,null,null,null,null,null,null,null,null,null,null,null,null,null,null,null,null,null,null,null,null,null,{"$f":"データ入力・貼付シート!$D$9","v":0}]
[]
["水 泳 競 技 申 込 一 覧 表"]
[null,null,null,null,null,null,null,null,null,null,null,null,null,null,null,null,null,null,null,null,null,null,null,null,null,null,null,"枚中の　   枚目"]
[]
["フリガナ",null,null,{"$f":"PHONETIC(データ入力・貼付シート!$D$2)","v":""},null,null,null,null,null,null,null,null,null,null,null,null,null,"学　　　校　　　所　　　在　　　地",null,null,null,null,null,null,null,null,null,"学校連絡先"]
["学　校\n正式名称",null,null,{"$f":"データ入力・貼付シート!$D$2","v":0},null,null,null,null,null,null,null,null,null,null,null,null,null,{"$f":"データ入力・貼付シート!$D$5","v":0},null,null,null,null,null,null,null,null,null,"TEL",{"$f":"データ入力・貼付シート!$D$6","v":0}]
[null,null,null,null,null,null,null,null,null,null,null,null,null,null,null,null,null,null,null,null,null,null,null,null,null,null,null,"FAX",{"$f":"データ入力・貼付シート!$D$7","v":0}]
["日本水泳連盟\n登録団体番号",null,null,"学　校　名　略　称",null,null,null,null,null,"略称フリガナ",null,null,null,"フリガナ",null,{"$f":"データ入力・貼付シート!$D$12","v":0},null,null,null,null,null,null,null,null,null,"性","フリガナ",null,{"$f":"データ入力・貼付シート!$D$17","v":0},null,null,null,null,null,null,"性"]
[{"$f":"CONCATENATE(データ入力・貼付シート!$R$10,データ入力・貼付シート!$D$10)","v":"４７"},null,null,{"$f":"データ入力・貼付シート!$D$3","v":0},null,null,null,null,null,{"$f":"データ入力・貼付シート!$D$4","v":0},null,null,null,"監督者",null,{"$f":"データ入力・貼付シート!$D$11","v":0},null,null,null,null,null,null,null,{"$f":"データ入力・貼付シート!$D$14","v":0},null,{"$f":"データ入力・貼付シート!$D$13","v":0},"引率\n責任者",null,{"$f":"データ入力・貼付シート!$D$16","v":0},null,null,null,null,null,null,{"$f":"データ入力・貼付シート!$D$18","v":0},null,null,null,null,null,null,null,null,null,{"$f":"COUNTIF(#REF!,\"記入ミス\")","v":{"$error":"#REF!"}}]
[]
[null,null,null,null,null,null,null,null,null,null,null,null,null,null,null,"緊急連絡先",null,null,{"$f":"データ入力・貼付シート!$D$15","v":0},null,null,null,null,null,null,null,null,null,null,null,null,null,null,null,null,null,null,null,null,null,null,null,null,null,null,"R記入ミス"]
[]
["リレー申込欄",null,null,null,null,null,null,"学校名",null,null,null,{"$f":"データ入力・貼付シート!$B$27","v":0},null,null,null,null,null,null,null,null,{"$f":"データ入力・貼付シート!$D$27","v":0},null,null,null,null,{"$f":"データ入力・貼付シート!$E$27","v":0},null,null,null,null,null,{"$f":"データ入力・貼付シート!$G$27","v":"00:00:00"}]
[null,null,null,null,null,null,null,null,null,null,null,null,null,null,null,null,null,null,null,null,{"$f":"データ入力・貼付シート!$D$28","v":0},null,null,null,null,{"$f":"データ入力・貼付シート!$E$28","v":0},null,null,null,null,null,{"$f":"データ入力・貼付シート!$G$28","v":"00:00:00"}]
[]
["№","登録番号",null,null,null,"氏　　名",null,null,null,null,null,null,null,null,null,"フリガナ",null,null,null,null,"学年","出　　　　　場　　　　　種　　　　　目"]
[null,null,null,null,null,null,null,null,null,null,null,null,null,null,null,null,null,null,null,null,null,"自由形",null,null,null,"背泳ぎ",null,null,"平泳ぎ",null,null,"ﾊﾞﾀﾌﾗｲ",null,null,"個人ﾒﾄﾞﾚｰ"]
[null,null,null,null,null,null,null,null,null,null,null,null,null,null,null,null,null,null,null,null,null,50,100,200,400,50,100,200,50,100,200,50,100,200,200,400]
[21,{"$f":"データ入力・貼付シート!B60","v":0},null,null,null,{"$f":"データ入力・貼付シート!C60","v":0},null,null,null,null,null,null,null,null,null,{"$f":"データ入力・貼付シート!D60","v":0},null,null,null,null,{"$f":"データ入力・貼付シート!F60","v":0},{"$f":"データ入力・貼付シート!I60","v":0},{"$f":"データ入力・貼付シート!J60","v":0},{"$f":"データ入力・貼付シート!K60","v":0},{"$f":"データ入力・貼付シート!L60","v":0},{"$f":"データ入力・貼付シート!M60","v":0},{"$f":"データ入力・貼付シート!N60","v":0},{"$f":"データ入力・貼付シート!O60","v":0},{"$f":"データ入力・貼付シート!P60","v":0},{"$f":"データ入力・貼付シート!Q60","v":0},{"$f":"データ入力・貼付シート!R60","v":0},{"$f":"データ入力・貼付シート!S60","v":0},{"$f":"データ入力・貼付シート!T60","v":0},{"$f":"データ入力・貼付シート!U60","v":0},{"$f":"データ入力・貼付シート!V60","v":0},{"$f":"データ入力・貼付シート!W60","v":0},{"$f":"IF(B68>1,\"1\",\"\")","v":""},{"$f":"SUM(V68:AJ68)","v":0}]
[22,{"$f":"データ入力・貼付シート!B61","v":0},null,null,null,{"$f":"データ入力・貼付シート!C61","v":0},null,null,null,null,null,null,null,null,null,{"$f":"データ入力・貼付シート!D61","v":0},null,null,null,null,{"$f":"データ入力・貼付シート!F61","v":0},{"$f":"データ入力・貼付シート!I61","v":0},{"$f":"データ入力・貼付シート!J61","v":0},{"$f":"データ入力・貼付シート!K61","v":0},{"$f":"データ入力・貼付シート!L61","v":0},{"$f":"データ入力・貼付シート!M61","v":0},{"$f":"データ入力・貼付シート!N61","v":0},{"$f":"データ入力・貼付シート!O61","v":0},{"$f":"データ入力・貼付シート!P61","v":0},{"$f":"データ入力・貼付シート!Q61","v":0},{"$f":"データ入力・貼付シート!R61","v":0},{"$f":"データ入力・貼付シート!S61","v":0},{"$f":"データ入力・貼付シート!T61","v":0},{"$f":"データ入力・貼付シート!U61","v":0},{"$f":"データ入力・貼付シート!V61","v":0},{"$f":"データ入力・貼付シート!W61","v":0},{"$f":"IF(B69>1,\"1\",\"\")","v":""},{"$f":"SUM(V69:AJ69)","v":0}]
[23,{"$f":"データ入力・貼付シート!B62","v":0},null,null,null,{"$f":"データ入力・貼付シート!C62","v":0},null,null,null,null,null,null,null,null,null,{"$f":"データ入力・貼付シート!D62","v":0},null,null,null,null,{"$f":"データ入力・貼付シート!F62","v":0},{"$f":"データ入力・貼付シート!I62","v":0},{"$f":"データ入力・貼付シート!J62","v":0},{"$f":"データ入力・貼付シート!K62","v":0},{"$f":"データ入力・貼付シート!L62","v":0},{"$f":"データ入力・貼付シート!M62","v":0},{"$f":"データ入力・貼付シート!N62","v":0},{"$f":"データ入力・貼付シート!O62","v":0},{"$f":"データ入力・貼付シート!P62","v":0},{"$f":"データ入力・貼付シート!Q62","v":0},{"$f":"データ入力・貼付シート!R62","v":0},{"$f":"データ入力・貼付シート!S62","v":0},{"$f":"データ入力・貼付シート!T62","v":0},{"$f":"データ入力・貼付シート!U62","v":0},{"$f":"データ入力・貼付シート!V62","v":0},{"$f":"データ入力・貼付シート!W62","v":0},"",0]
[24,{"$f":"データ入力・貼付シート!B63","v":0},null,null,null,{"$f":"データ入力・貼付シート!C63","v":0},null,null,null,null,null,null,null,null,null,{"$f":"データ入力・貼付シート!D63","v":0},null,null,null,null,{"$f":"データ入力・貼付シート!F63","v":0},{"$f":"データ入力・貼付シート!I63","v":0},{"$f":"データ入力・貼付シート!J63","v":0},{"$f":"データ入力・貼付シート!K63","v":0},{"$f":"データ入力・貼付シート!L63","v":0},{"$f":"データ入力・貼付シート!M63","v":0},{"$f":"データ入力・貼付シート!N63","v":0},{"$f":"データ入力・貼付シート!O63","v":0},{"$f":"データ入力・貼付シート!P63","v":0},{"$f":"データ入力・貼付シート!Q63","v":0},{"$f":"データ入力・貼付シート!R63","v":0},{"$f":"データ入力・貼付シート!S63","v":0},{"$f":"データ入力・貼付シート!T63","v":0},{"$f":"データ入力・貼付シート!U63","v":0},{"$f":"データ入力・貼付シート!V63","v":0},{"$f":"データ入力・貼付シート!W63","v":0},"",0]
[25,{"$f":"データ入力・貼付シート!B64","v":0},null,null,null,{"$f":"データ入力・貼付シート!C64","v":0},null,null,null,null,null,null,null,null,null,{"$f":"データ入力・貼付シート!D64","v":0},null,null,null,null,{"$f":"データ入力・貼付シート!F64","v":0},{"$f":"データ入力・貼付シート!I64","v":0},{"$f":"データ入力・貼付シート!J64","v":0},{"$f":"データ入力・貼付シート!K64","v":0},{"$f":"データ入力・貼付シート!L64","v":0},{"$f":"データ入力・貼付シート!M64","v":0},{"$f":"データ入力・貼付シート!N64","v":0},{"$f":"データ入力・貼付シート!O64","v":0},{"$f":"データ入力・貼付シート!P64","v":0},{"$f":"データ入力・貼付シート!Q64","v":0},{"$f":"データ入力・貼付シート!R64","v":0},{"$f":"データ入力・貼付シート!S64","v":0},{"$f":"データ入力・貼付シート!T64","v":0},{"$f":"データ入力・貼付シート!U64","v":0},{"$f":"データ入力・貼付シート!V64","v":0},{"$f":"データ入力・貼付シート!W64","v":0},"",0]
[26,{"$f":"データ入力・貼付シート!B65","v":0},null,null,null,{"$f":"データ入力・貼付シート!C65","v":0},null,null,null,null,null,null,null,null,null,{"$f":"データ入力・貼付シート!D65","v":0},null,null,null,null,{"$f":"データ入力・貼付シート!F65","v":0},{"$f":"データ入力・貼付シート!I65","v":0},{"$f":"データ入力・貼付シート!J65","v":0},{"$f":"データ入力・貼付シート!K65","v":0},{"$f":"データ入力・貼付シート!L65","v":0},{"$f":"データ入力・貼付シート!M65","v":0},{"$f":"データ入力・貼付シート!N65","v":0},{"$f":"データ入力・貼付シート!O65","v":0},{"$f":"データ入力・貼付シート!P65","v":0},{"$f":"データ入力・貼付シート!Q65","v":0},{"$f":"データ入力・貼付シート!R65","v":0},{"$f":"データ入力・貼付シート!S65","v":0},{"$f":"データ入力・貼付シート!T65","v":0},{"$f":"データ入力・貼付シート!U65","v":0},{"$f":"データ入力・貼付シート!V65","v":0},{"$f":"データ入力・貼付シート!W65","v":0},"",0]
[27,{"$f":"データ入力・貼付シート!B66","v":0},null,null,null,{"$f":"データ入力・貼付シート!C66","v":0},null,null,null,null,null,null,null,null,null,{"$f":"データ入力・貼付シート!D66","v":0},null,null,null,null,{"$f":"データ入力・貼付シート!F66","v":0},{"$f":"データ入力・貼付シート!I66","v":0},{"$f":"データ入力・貼付シート!J66","v":0},{"$f":"データ入力・貼付シート!K66","v":0},{"$f":"データ入力・貼付シート!L66","v":0},{"$f":"データ入力・貼付シート!M66","v":0},{"$f":"データ入力・貼付シート!N66","v":0},{"$f":"データ入力・貼付シート!O66","v":0},{"$f":"データ入力・貼付シート!P66","v":0},{"$f":"データ入力・貼付シート!Q66","v":0},{"$f":"データ入力・貼付シート!R66","v":0},{"$f":"データ入力・貼付シート!S66","v":0},{"$f":"データ入力・貼付シート!T66","v":0},{"$f":"データ入力・貼付シート!U66","v":0},{"$f":"データ入力・貼付シート!V66","v":0},{"$f":"データ入力・貼付シート!W66","v":0},"",0]
[28,{"$f":"データ入力・貼付シート!B67","v":0},null,null,null,{"$f":"データ入力・貼付シート!C67","v":0},null,null,null,null,null,null,null,null,null,{"$f":"データ入力・貼付シート!D67","v":0},null,null,null,null,{"$f":"データ入力・貼付シート!F67","v":0},{"$f":"データ入力・貼付シート!I67","v":0},{"$f":"データ入力・貼付シート!J67","v":0},{"$f":"データ入力・貼付シート!K67","v":0},{"$f":"データ入力・貼付シート!L67","v":0},{"$f":"データ入力・貼付シート!M67","v":0},{"$f":"データ入力・貼付シート!N67","v":0},{"$f":"データ入力・貼付シート!O67","v":0},{"$f":"データ入力・貼付シート!P67","v":0},{"$f":"データ入力・貼付シート!Q67","v":0},{"$f":"データ入力・貼付シート!R67","v":0},{"$f":"データ入力・貼付シート!S67","v":0},{"$f":"データ入力・貼付シート!T67","v":0},{"$f":"データ入力・貼付シート!U67","v":0},{"$f":"データ入力・貼付シート!V67","v":0},{"$f":"データ入力・貼付シート!W67","v":0},"",0]
[29,{"$f":"データ入力・貼付シート!B68","v":0},null,null,null,{"$f":"データ入力・貼付シート!C68","v":0},null,null,null,null,null,null,null,null,null,{"$f":"データ入力・貼付シート!D68","v":0},null,null,null,null,{"$f":"データ入力・貼付シート!F68","v":0},{"$f":"データ入力・貼付シート!I68","v":0},{"$f":"データ入力・貼付シート!J68","v":0},{"$f":"データ入力・貼付シート!K68","v":0},{"$f":"データ入力・貼付シート!L68","v":0},{"$f":"データ入力・貼付シート!M68","v":0},{"$f":"データ入力・貼付シート!N68","v":0},{"$f":"データ入力・貼付シート!O68","v":0},{"$f":"データ入力・貼付シート!P68","v":0},{"$f":"データ入力・貼付シート!Q68","v":0},{"$f":"データ入力・貼付シート!R68","v":0},{"$f":"データ入力・貼付シート!S68","v":0},{"$f":"データ入力・貼付シート!T68","v":0},{"$f":"データ入力・貼付シート!U68","v":0},{"$f":"データ入力・貼付シート!V68","v":0},{"$f":"データ入力・貼付シート!W68","v":0},"",0]
[30,{"$f":"データ入力・貼付シート!B69","v":0},null,null,null,{"$f":"データ入力・貼付シート!C69","v":0},null,null,null,null,null,null,null,null,null,{"$f":"データ入力・貼付シート!D69","v":0},null,null,null,null,{"$f":"データ入力・貼付シート!F69","v":0},{"$f":"データ入力・貼付シート!I69","v":0},{"$f":"データ入力・貼付シート!J69","v":0},{"$f":"データ入力・貼付シート!K69","v":0},{"$f":"データ入力・貼付シート!L69","v":0},{"$f":"データ入力・貼付シート!M69","v":0},{"$f":"データ入力・貼付シート!N69","v":0},{"$f":"データ入力・貼付シート!O69","v":0},{"$f":"データ入力・貼付シート!P69","v":0},{"$f":"データ入力・貼付シート!Q69","v":0},{"$f":"データ入力・貼付シート!R69","v":0},{"$f":"データ入力・貼付シート!S69","v":0},{"$f":"データ入力・貼付シート!T69","v":0},{"$f":"データ入力・貼付シート!U69","v":0},{"$f":"データ入力・貼付シート!V69","v":0},{"$f":"データ入力・貼付シート!W69","v":0},"",0]
[31,{"$f":"データ入力・貼付シート!B70","v":0},null,null,null,{"$f":"データ入力・貼付シート!C70","v":0},null,null,null,null,null,null,null,null,null,{"$f":"データ入力・貼付シート!D70","v":0},null,null,null,null,{"$f":"データ入力・貼付シート!F70","v":0},{"$f":"データ入力・貼付シート!I70","v":0},{"$f":"データ入力・貼付シート!J70","v":0},{"$f":"データ入力・貼付シート!K70","v":0},{"$f":"データ入力・貼付シート!L70","v":0},{"$f":"データ入力・貼付シート!M70","v":0},{"$f":"データ入力・貼付シート!N70","v":0},{"$f":"データ入力・貼付シート!O70","v":0},{"$f":"データ入力・貼付シート!P70","v":0},{"$f":"データ入力・貼付シート!Q70","v":0},{"$f":"データ入力・貼付シート!R70","v":0},{"$f":"データ入力・貼付シート!S70","v":0},{"$f":"データ入力・貼付シート!T70","v":0},{"$f":"データ入力・貼付シート!U70","v":0},{"$f":"データ入力・貼付シート!V70","v":0},{"$f":"データ入力・貼付シート!W70","v":0},"",0]
[32,{"$f":"データ入力・貼付シート!B71","v":0},null,null,null,{"$f":"データ入力・貼付シート!C71","v":0},null,null,null,null,null,null,null,null,null,{"$f":"データ入力・貼付シート!D71","v":0},null,null,null,null,{"$f":"データ入力・貼付シート!F71","v":0},{"$f":"データ入力・貼付シート!I71","v":0},{"$f":"データ入力・貼付シート!J71","v":0},{"$f":"データ入力・貼付シート!K71","v":0},{"$f":"データ入力・貼付シート!L71","v":0},{"$f":"データ入力・貼付シート!M71","v":0},{"$f":"データ入力・貼付シート!N71","v":0},{"$f":"データ入力・貼付シート!O71","v":0},{"$f":"データ入力・貼付シート!P71","v":0},{"$f":"データ入力・貼付シート!Q71","v":0},{"$f":"データ入力・貼付シート!R71","v":0},{"$f":"データ入力・貼付シート!S71","v":0},{"$f":"データ入力・貼付シート!T71","v":0},{"$f":"データ入力・貼付シート!U71","v":0},{"$f":"データ入力・貼付シート!V71","v":0},{"$f":"データ入力・貼付シート!W71","v":0},"",0]
[33,{"$f":"データ入力・貼付シート!B72","v":0},null,null,null,{"$f":"データ入力・貼付シート!C72","v":0},null,null,null,null,null,null,null,null,null,{"$f":"データ入力・貼付シート!D72","v":0},null,null,null,null,{"$f":"データ入力・貼付シート!F72","v":0},{"$f":"データ入力・貼付シート!I72","v":0},{"$f":"データ入力・貼付シート!J72","v":0},{"$f":"データ入力・貼付シート!K72","v":0},{"$f":"データ入力・貼付シート!L72","v":0},{"$f":"データ入力・貼付シート!M72","v":0},{"$f":"データ入力・貼付シート!N72","v":0},{"$f":"データ入力・貼付シート!O72","v":0},{"$f":"データ入力・貼付シート!P72","v":0},{"$f":"データ入力・貼付シート!Q72","v":0},{"$f":"データ入力・貼付シート!R72","v":0},{"$f":"データ入力・貼付シート!S72","v":0},{"$f":"データ入力・貼付シート!T72","v":0},{"$f":"データ入力・貼付シート!U72","v":0},{"$f":"データ入力・貼付シート!V72","v":0},{"$f":"データ入力・貼付シート!W72","v":0},"",0]
[34,{"$f":"データ入力・貼付シート!B73","v":0},null,null,null,{"$f":"データ入力・貼付シート!C73","v":0},null,null,null,null,null,null,null,null,null,{"$f":"データ入力・貼付シート!D73","v":0},null,null,null,null,{"$f":"データ入力・貼付シート!F73","v":0},{"$f":"データ入力・貼付シート!I73","v":0},{"$f":"データ入力・貼付シート!J73","v":0},{"$f":"データ入力・貼付シート!K73","v":0},{"$f":"データ入力・貼付シート!L73","v":0},{"$f":"データ入力・貼付シート!M73","v":0},{"$f":"データ入力・貼付シート!N73","v":0},{"$f":"データ入力・貼付シート!O73","v":0},{"$f":"データ入力・貼付シート!P73","v":0},{"$f":"データ入力・貼付シート!Q73","v":0},{"$f":"データ入力・貼付シート!R73","v":0},{"$f":"データ入力・貼付シート!S73","v":0},{"$f":"データ入力・貼付シート!T73","v":0},{"$f":"データ入力・貼付シート!U73","v":0},{"$f":"データ入力・貼付シート!V73","v":0},{"$f":"データ入力・貼付シート!W73","v":0},"",0]
[35,{"$f":"データ入力・貼付シート!B74","v":0},null,null,null,{"$f":"データ入力・貼付シート!C74","v":0},null,null,null,null,null,null,null,null,null,{"$f":"データ入力・貼付シート!D74","v":0},null,null,null,null,{"$f":"データ入力・貼付シート!F74","v":0},{"$f":"データ入力・貼付シート!I74","v":0},{"$f":"データ入力・貼付シート!J74","v":0},{"$f":"データ入力・貼付シート!K74","v":0},{"$f":"データ入力・貼付シート!L74","v":0},{"$f":"データ入力・貼付シート!M74","v":0},{"$f":"データ入力・貼付シート!N74","v":0},{"$f":"データ入力・貼付シート!O74","v":0},{"$f":"データ入力・貼付シート!P74","v":0},{"$f":"データ入力・貼付シート!Q74","v":0},{"$f":"データ入力・貼付シート!R74","v":0},{"$f":"データ入力・貼付シート!S74","v":0},{"$f":"データ入力・貼付シート!T74","v":0},{"$f":"データ入力・貼付シート!U74","v":0},{"$f":"データ入力・貼付シート!V74","v":0},{"$f":"データ入力・貼付シート!W74","v":0},"",0]
[36,{"$f":"データ入力・貼付シート!B75","v":0},null,null,null,{"$f":"データ入力・貼付シート!C75","v":0},null,null,null,null,null,null,null,null,null,{"$f":"データ入力・貼付シート!D75","v":0},null,null,null,null,{"$f":"データ入力・貼付シート!F75","v":0},{"$f":"データ入力・貼付シート!I75","v":0},{"$f":"データ入力・貼付シート!J75","v":0},{"$f":"データ入力・貼付シート!K75","v":0},{"$f":"データ入力・貼付シート!L75","v":0},{"$f":"データ入力・貼付シート!M75","v":0},{"$f":"データ入力・貼付シート!N75","v":0},{"$f":"データ入力・貼付シート!O75","v":0},{"$f":"データ入力・貼付シート!P75","v":0},{"$f":"データ入力・貼付シート!Q75","v":0},{"$f":"データ入力・貼付シート!R75","v":0},{"$f":"データ入力・貼付シート!S75","v":0},{"$f":"データ入力・貼付シート!T75","v":0},{"$f":"データ入力・貼付シート!U75","v":0},{"$f":"データ入力・貼付シート!V75","v":0},{"$f":"データ入力・貼付シート!W75","v":0},"",0]
[37,{"$f":"データ入力・貼付シート!B76","v":0},null,null,null,{"$f":"データ入力・貼付シート!C76","v":0},null,null,null,null,null,null,null,null,null,{"$f":"データ入力・貼付シート!D76","v":0},null,null,null,null,{"$f":"データ入力・貼付シート!F76","v":0},{"$f":"データ入力・貼付シート!I76","v":0},{"$f":"データ入力・貼付シート!J76","v":0},{"$f":"データ入力・貼付シート!K76","v":0},{"$f":"データ入力・貼付シート!L76","v":0},{"$f":"データ入力・貼付シート!M76","v":0},{"$f":"データ入力・貼付シート!N76","v":0},{"$f":"データ入力・貼付シート!O76","v":0},{"$f":"データ入力・貼付シート!P76","v":0},{"$f":"データ入力・貼付シート!Q76","v":0},{"$f":"データ入力・貼付シート!R76","v":0},{"$f":"データ入力・貼付シート!S76","v":0},{"$f":"データ入力・貼付シート!T76","v":0},{"$f":"データ入力・貼付シート!U76","v":0},{"$f":"データ入力・貼付シート!V76","v":0},{"$f":"データ入力・貼付シート!W76","v":0},"",0]
[38,{"$f":"データ入力・貼付シート!B77","v":0},null,null,null,{"$f":"データ入力・貼付シート!C77","v":0},null,null,null,null,null,null,null,null,null,{"$f":"データ入力・貼付シート!D77","v":0},null,null,null,null,{"$f":"データ入力・貼付シート!F77","v":0},{"$f":"データ入力・貼付シート!I77","v":0},{"$f":"データ入力・貼付シート!J77","v":0},{"$f":"データ入力・貼付シート!K77","v":0},{"$f":"データ入力・貼付シート!L77","v":0},{"$f":"データ入力・貼付シート!M77","v":0},{"$f":"データ入力・貼付シート!N77","v":0},{"$f":"データ入力・貼付シート!O77","v":0},{"$f":"データ入力・貼付シート!P77","v":0},{"$f":"データ入力・貼付シート!Q77","v":0},{"$f":"データ入力・貼付シート!R77","v":0},{"$f":"データ入力・貼付シート!S77","v":0},{"$f":"データ入力・貼付シート!T77","v":0},{"$f":"データ入力・貼付シート!U77","v":0},{"$f":"データ入力・貼付シート!V77","v":0},{"$f":"データ入力・貼付シート!W77","v":0},"",0]
[39,{"$f":"データ入力・貼付シート!B78","v":0},null,null,null,{"$f":"データ入力・貼付シート!C78","v":0},null,null,null,null,null,null,null,null,null,{"$f":"データ入力・貼付シート!D78","v":0},null,null,null,null,{"$f":"データ入力・貼付シート!F78","v":0},{"$f":"データ入力・貼付シート!I78","v":0},{"$f":"データ入力・貼付シート!J78","v":0},{"$f":"データ入力・貼付シート!K78","v":0},{"$f":"データ入力・貼付シート!L78","v":0},{"$f":"データ入力・貼付シート!M78","v":0},{"$f":"データ入力・貼付シート!N78","v":0},{"$f":"データ入力・貼付シート!O78","v":0},{"$f":"データ入力・貼付シート!P78","v":0},{"$f":"データ入力・貼付シート!Q78","v":0},{"$f":"データ入力・貼付シート!R78","v":0},{"$f":"データ入力・貼付シート!S78","v":0},{"$f":"データ入力・貼付シート!T78","v":0},{"$f":"データ入力・貼付シート!U78","v":0},{"$f":"データ入力・貼付シート!V78","v":0},{"$f":"データ入力・貼付シート!W78","v":0},"",0]
[40,{"$f":"データ入力・貼付シート!B79","v":0},null,null,null,{"$f":"データ入力・貼付シート!C79","v":0},null,null,null,null,null,null,null,null,null,{"$f":"データ入力・貼付シート!D79","v":0},null,null,null,null,{"$f":"データ入力・貼付シート!F79","v":0},{"$f":"データ入力・貼付シート!I79","v":0},{"$f":"データ入力・貼付シート!J79","v":0},{"$f":"データ入力・貼付シート!K79","v":0},{"$f":"データ入力・貼付シート!L79","v":0},{"$f":"データ入力・貼付シート!M79","v":0},{"$f":"データ入力・貼付シート!N79","v":0},{"$f":"データ入力・貼付シート!O79","v":0},{"$f":"データ入力・貼付シート!P79","v":0},{"$f":"データ入力・貼付シート!Q79","v":0},{"$f":"データ入力・貼付シート!R79","v":0},{"$f":"データ入力・貼付シート!S79","v":0},{"$f":"データ入力・貼付シート!T79","v":0},{"$f":"データ入力・貼付シート!U79","v":0},{"$f":"データ入力・貼付シート!V79","v":0},{"$f":"データ入力・貼付シート!W79","v":0},"",0]
[]
[null,"男子","（",{"$f":"COUNTIF($AK$21:$AK$87,1)","v":0},"）","名","＋",null,"女子","（",{"$f":"COUNTIF($AK$115:$AK$181,2)","v":0},"）","名","＝",null,null,"参加選手合計",null,null,null,"（",{"$f":"$D$42+$K$42","v":0},"）","名",null,null,null,null,"個人種目",null,"（",{"$f":"SUM($AL$21:$AL$181)","v":0},null,"）","種目"]
[null,null,null,null,null,null,null,null,null,null,null,null,null,null,null,null,null,null,null,null,null,null,null,null,null,null,null,null,"リレー種目",null,"（",{"$f":"SUM($AK$15:$AK$16,$AK$109:$AK$110)","v":0},null,"）","種目"]
["①","下記の者は本校在学生徒であり、定期健康診断の結果異常なく、標記大会に出場することを認め参加申込をいたします。"]
["②","個人情報については「沖縄県高体連個人情報保護方針」を承諾した上で参加申込みすることに同意します。"]
[null,null,null,"令和",{"$f":"データ入力・貼付シート!$E$20","v":5},null,"年",{"$f":"データ入力・貼付シート!$G$20","v":0},null,"月",{"$f":"データ入力・貼付シート!$I$20","v":0},null,"日"]
[null,null,null,null,null,null,null,null,{"$f":"データ入力・貼付シート!$D$2","v":0},null,null,null,null,null,null,null,null,null,null,null,null,null,"校長",null,null,{"$f":"データ入力・貼付シート!$D$8","v":0}]
["沖縄県高等学校体育連盟会長　　殿",null,null,null,null,null,null,null,null,null,null,null,null,null,null,null,null,null,null,null,null,null,null,null,null,null,null,null,null,null,null,"高体連\n学校番号",null,null,null,null,null,null,null,null,null,"男子個人種目数","女子個人種目数","男個人記入ミス","女個人記入ミス",null,"男子個人種目数②","女子個人種目数②","男子参加者数①","男子参加者数②","女子参加者数①","女子参加者数②"]
[null,null,null,null,null,null,null,{"$f":"H2","v":"令和５年度沖縄県高等学校新人体育大会\n水泳競技大会"},null,null,null,null,null,null,null,null,null,null,null,null,null,null,null,null,null,null,null,null,null,null,null,{"$f":"データ入力・貼付シート!$D$9","v":0}]
[]
["水 泳 競 技 申 込 一 覧 表"]
[null,null,null,null,null,null,null,null,null,null,null,null,null,null,null,null,null,null,null,null,null,null,null,null,null,null,null,"枚中の　   枚目"]
[]
["フリガナ",null,null,{"$f":"PHONETIC(データ入力・貼付シート!$D$2)","v":""},null,null,null,null,null,null,null,null,null,null,null,null,null,"学　　　校　　　所　　　在　　　地",null,null,null,null,null,null,null,null,null,"学校連絡先"]
["学　校\n正式名称",null,null,{"$f":"データ入力・貼付シート!$D$2","v":0},null,null,null,null,null,null,null,null,null,null,null,null,null,{"$f":"データ入力・貼付シート!$D$5","v":0},null,null,null,null,null,null,null,null,null,"TEL",{"$f":"データ入力・貼付シート!$D$6","v":0}]
[null,null,null,null,null,null,null,null,null,null,null,null,null,null,null,null,null,null,null,null,null,null,null,null,null,null,null,"FAX",{"$f":"データ入力・貼付シート!$D$7","v":0}]
["日本水泳連盟\n登録団体番号",null,null,"学　校　名　略　称",null,null,null,null,null,"略称フリガナ",null,null,null,"フリガナ",null,{"$f":"データ入力・貼付シート!$D$12","v":0},null,null,null,null,null,null,null,null,null,"性","フリガナ",null,{"$f":"データ入力・貼付シート!$D$17","v":0},null,null,null,null,null,null,"性"]
[{"$f":"CONCATENATE(データ入力・貼付シート!$R$10,データ入力・貼付シート!$D$10)","v":"４７"},null,null,{"$f":"データ入力・貼付シート!$D$3","v":0},null,null,null,null,null,{"$f":"データ入力・貼付シート!$D$4","v":0},null,null,null,"監督者",null,{"$f":"データ入力・貼付シート!$D$11","v":0},null,null,null,null,null,null,null,{"$f":"データ入力・貼付シート!$D$14","v":0},null,{"$f":"データ入力・貼付シート!$D$13","v":0},"引率\n責任者",null,{"$f":"データ入力・貼付シート!$D$16","v":0},null,null,null,null,null,null,{"$f":"データ入力・貼付シート!$D$18","v":0},null,null,null,null,null,null,null,null,null,{"$f":"COUNTIF(#REF!,\"記入ミス\")","v":{"$error":"#REF!"}}]
[]
[null,null,null,null,null,null,null,null,null,null,null,null,null,null,null,"緊急連絡先",null,null,{"$f":"データ入力・貼付シート!$D$15","v":0},null,null,null,null,null,null,null,null,null,null,null,null,null,null,null,null,null,null,null,null,null,null,null,null,null,null,"R記入ミス"]
[]
["リレー申込欄",null,null,null,null,null,null,"学校名",null,null,null,{"$f":"データ入力・貼付シート!$B$33","v":0},null,null,null,null,null,null,null,null,{"$f":"データ入力・貼付シート!$D$33","v":0},null,null,null,null,{"$f":"データ入力・貼付シート!$E$33","v":0},null,null,null,null,null,{"$f":"データ入力・貼付シート!$G$33","v":"00:00:00"},null,null,null,null,{"$f":"IF(Z109>M294,1,\"\")","v":""}]
[null,null,null,null,null,null,null,null,null,null,null,null,null,null,null,null,null,null,null,null,{"$f":"データ入力・貼付シート!$D$34","v":0},null,null,null,null,{"$f":"データ入力・貼付シート!$E$34","v":0},null,null,null,null,null,{"$f":"データ入力・貼付シート!$G$34","v":"00:00:00"},null,null,null,null,{"$f":"IF(Z110>M295,1,\"\")","v":""}]
[]
["№","登録番号",null,null,null,"氏　　名",null,null,null,null,null,null,null,null,null,"フリガナ",null,null,null,null,"学年","出　　　　　場　　　　　種　　　　　目"]
[null,null,null,null,null,null,null,null,null,null,null,null,null,null,null,null,null,null,null,null,null,"自由形",null,null,null,"背泳ぎ",null,null,"平泳ぎ",null,null,"ﾊﾞﾀﾌﾗｲ",null,null,"個人ﾒﾄﾞﾚｰ"]
[null,null,null,null,null,null,null,null,null,null,null,null,null,null,null,null,null,null,null,null,null,50,100,200,400,50,100,200,50,100,200,50,100,200,200,400]
[1,{"$f":"データ入力・貼付シート!B84","v":0},null,null,null,{"$f":"データ入力・貼付シート!C84","v":0},null,null,null,null,null,null,null,null,null,{"$f":"データ入力・貼付シート!D84","v":0},null,null,null,null,{"$f":"データ入力・貼付シート!F84","v":0},{"$f":"データ入力・貼付シート!I84","v":0},{"$f":"データ入力・貼付シート!J84","v":0},{"$f":"データ入力・貼付シート!K84","v":0},{"$f":"データ入力・貼付シート!L84","v":0},{"$f":"データ入力・貼付シート!M84","v":0},{"$f":"データ入力・貼付シート!N84","v":0},{"$f":"データ入力・貼付シート!O84","v":0},{"$f":"データ入力・貼付シート!P84","v":0},{"$f":"データ入力・貼付シート!Q84","v":0},{"$f":"データ入力・貼付シート!R84","v":0},{"$f":"データ入力・貼付シート!S84","v":0},{"$f":"データ入力・貼付シート!T84","v":0},{"$f":"データ入力・貼付シート!U84","v":0},{"$f":"データ入力・貼付シート!V84","v":0},{"$f":"データ入力・貼付シート!W84","v":0},{"$f":"IF(B115>1,\"2\",\"\")","v":""},{"$f":"SUM(V115:AJ115)","v":0}]
[2,{"$f":"データ入力・貼付シート!B85","v":0},null,null,null,{"$f":"データ入力・貼付シート!C85","v":0},null,null,null,null,null,null,null,null,null,{"$f":"データ入力・貼付シート!D85","v":0},null,null,null,null,{"$f":"データ入力・貼付シート!F85","v":0},{"$f":"データ入力・貼付シート!I85","v":0},{"$f":"データ入力・貼付シート!J85","v":0},{"$f":"データ入力・貼付シート!K85","v":0},{"$f":"データ入力・貼付シート!L85","v":0},{"$f":"データ入力・貼付シート!M85","v":0},{"$f":"データ入力・貼付シート!N85","v":0},{"$f":"データ入力・貼付シート!O85","v":0},{"$f":"データ入力・貼付シート!P85","v":0},{"$f":"データ入力・貼付シート!Q85","v":0},{"$f":"データ入力・貼付シート!R85","v":0},{"$f":"データ入力・貼付シート!S85","v":0},{"$f":"データ入力・貼付シート!T85","v":0},{"$f":"データ入力・貼付シート!U85","v":0},{"$f":"データ入力・貼付シート!V85","v":0},{"$f":"データ入力・貼付シート!W85","v":0},{"$f":"IF(B116>1,\"2\",\"\")","v":""},{"$f":"SUM(V116:AJ116)","v":0}]
[3,{"$f":"データ入力・貼付シート!B86","v":0},null,null,null,{"$f":"データ入力・貼付シート!C86","v":0},null,null,null,null,null,null,null,null,null,{"$f":"データ入力・貼付シート!D86","v":0},null,null,null,null,{"$f":"データ入力・貼付シート!F86","v":0},{"$f":"データ入力・貼付シート!I86","v":0},{"$f":"データ入力・貼付シート!J86","v":0},{"$f":"データ入力・貼付シート!K86","v":0},{"$f":"データ入力・貼付シート!L86","v":0},{"$f":"データ入力・貼付シート!M86","v":0},{"$f":"データ入力・貼付シート!N86","v":0},{"$f":"データ入力・貼付シート!O86","v":0},{"$f":"データ入力・貼付シート!P86","v":0},{"$f":"データ入力・貼付シート!Q86","v":0},{"$f":"データ入力・貼付シート!R86","v":0},{"$f":"データ入力・貼付シート!S86","v":0},{"$f":"データ入力・貼付シート!T86","v":0},{"$f":"データ入力・貼付シート!U86","v":0},{"$f":"データ入力・貼付シート!V86","v":0},{"$f":"データ入力・貼付シート!W86","v":0},"",0]
[4,{"$f":"データ入力・貼付シート!B87","v":0},null,null,null,{"$f":"データ入力・貼付シート!C87","v":0},null,null,null,null,null,null,null,null,null,{"$f":"データ入力・貼付シート!D87","v":0},null,null,null,null,{"$f":"データ入力・貼付シート!F87","v":0},{"$f":"データ入力・貼付シート!I87","v":0},{"$f":"データ入力・貼付シート!J87","v":0},{"$f":"データ入力・貼付シート!K87","v":0},{"$f":"データ入力・貼付シート!L87","v":0},{"$f":"データ入力・貼付シート!M87","v":0},{"$f":"データ入力・貼付シート!N87","v":0},{"$f":"データ入力・貼付シート!O87","v":0},{"$f":"データ入力・貼付シート!P87","v":0},{"$f":"データ入力・貼付シート!Q87","v":0},{"$f":"データ入力・貼付シート!R87","v":0},{"$f":"データ入力・貼付シート!S87","v":0},{"$f":"データ入力・貼付シート!T87","v":0},{"$f":"データ入力・貼付シート!U87","v":0},{"$f":"データ入力・貼付シート!V87","v":0},{"$f":"データ入力・貼付シート!W87","v":0},"",0]
[5,{"$f":"データ入力・貼付シート!B88","v":0},null,null,null,{"$f":"データ入力・貼付シート!C88","v":0},null,null,null,null,null,null,null,null,null,{"$f":"データ入力・貼付シート!D88","v":0},null,null,null,null,{"$f":"データ入力・貼付シート!F88","v":0},{"$f":"データ入力・貼付シート!I88","v":0},{"$f":"データ入力・貼付シート!J88","v":0},{"$f":"データ入力・貼付シート!K88","v":0},{"$f":"データ入力・貼付シート!L88","v":0},{"$f":"データ入力・貼付シート!M88","v":0},{"$f":"データ入力・貼付シート!N88","v":0},{"$f":"データ入力・貼付シート!O88","v":0},{"$f":"データ入力・貼付シート!P88","v":0},{"$f":"データ入力・貼付シート!Q88","v":0},{"$f":"データ入力・貼付シート!R88","v":0},{"$f":"データ入力・貼付シート!S88","v":0},{"$f":"データ入力・貼付シート!T88","v":0},{"$f":"データ入力・貼付シート!U88","v":0},{"$f":"データ入力・貼付シート!V88","v":0},{"$f":"データ入力・貼付シート!W88","v":0},"",0]
[6,{"$f":"データ入力・貼付シート!B89","v":0},null,null,null,{"$f":"データ入力・貼付シート!C89","v":0},null,null,null,null,null,null,null,null,null,{"$f":"データ入力・貼付シート!D89","v":0},null,null,null,null,{"$f":"データ入力・貼付シート!F89","v":0},{"$f":"データ入力・貼付シート!I89","v":0},{"$f":"データ入力・貼付シート!J89","v":0},{"$f":"データ入力・貼付シート!K89","v":0},{"$f":"データ入力・貼付シート!L89","v":0},{"$f":"データ入力・貼付シート!M89","v":0},{"$f":"データ入力・貼付シート!N89","v":0},{"$f":"データ入力・貼付シート!O89","v":0},{"$f":"データ入力・貼付シート!P89","v":0},{"$f":"データ入力・貼付シート!Q89","v":0},{"$f":"データ入力・貼付シート!R89","v":0},{"$f":"データ入力・貼付シート!S89","v":0},{"$f":"データ入力・貼付シート!T89","v":0},{"$f":"データ入力・貼付シート!U89","v":0},{"$f":"データ入力・貼付シート!V89","v":0},{"$f":"データ入力・貼付シート!W89","v":0},"",0]
[7,{"$f":"データ入力・貼付シート!B90","v":0},null,null,null,{"$f":"データ入力・貼付シート!C90","v":0},null,null,null,null,null,null,null,null,null,{"$f":"データ入力・貼付シート!D90","v":0},null,null,null,null,{"$f":"データ入力・貼付シート!F90","v":0},{"$f":"データ入力・貼付シート!I90","v":0},{"$f":"データ入力・貼付シート!J90","v":0},{"$f":"データ入力・貼付シート!K90","v":0},{"$f":"データ入力・貼付シート!L90","v":0},{"$f":"データ入力・貼付シート!M90","v":0},{"$f":"データ入力・貼付シート!N90","v":0},{"$f":"データ入力・貼付シート!O90","v":0},{"$f":"データ入力・貼付シート!P90","v":0},{"$f":"データ入力・貼付シート!Q90","v":0},{"$f":"データ入力・貼付シート!R90","v":0},{"$f":"データ入力・貼付シート!S90","v":0},{"$f":"データ入力・貼付シート!T90","v":0},{"$f":"データ入力・貼付シート!U90","v":0},{"$f":"データ入力・貼付シート!V90","v":0},{"$f":"データ入力・貼付シート!W90","v":0},"",0]
[8,{"$f":"データ入力・貼付シート!B91","v":0},null,null,null,{"$f":"データ入力・貼付シート!C91","v":0},null,null,null,null,null,null,null,null,null,{"$f":"データ入力・貼付シート!D91","v":0},null,null,null,null,{"$f":"データ入力・貼付シート!F91","v":0},{"$f":"データ入力・貼付シート!I91","v":0},{"$f":"データ入力・貼付シート!J91","v":0},{"$f":"データ入力・貼付シート!K91","v":0},{"$f":"データ入力・貼付シート!L91","v":0},{"$f":"データ入力・貼付シート!M91","v":0},{"$f":"データ入力・貼付シート!N91","v":0},{"$f":"データ入力・貼付シート!O91","v":0},{"$f":"データ入力・貼付シート!P91","v":0},{"$f":"データ入力・貼付シート!Q91","v":0},{"$f":"データ入力・貼付シート!R91","v":0},{"$f":"データ入力・貼付シート!S91","v":0},{"$f":"データ入力・貼付シート!T91","v":0},{"$f":"データ入力・貼付シート!U91","v":0},{"$f":"データ入力・貼付シート!V91","v":0},{"$f":"データ入力・貼付シート!W91","v":0},"",0]
[9,{"$f":"データ入力・貼付シート!B92","v":0},null,null,null,{"$f":"データ入力・貼付シート!C92","v":0},null,null,null,null,null,null,null,null,null,{"$f":"データ入力・貼付シート!D92","v":0},null,null,null,null,{"$f":"データ入力・貼付シート!F92","v":0},{"$f":"データ入力・貼付シート!I92","v":0},{"$f":"データ入力・貼付シート!J92","v":0},{"$f":"データ入力・貼付シート!K92","v":0},{"$f":"データ入力・貼付シート!L92","v":0},{"$f":"データ入力・貼付シート!M92","v":0},{"$f":"データ入力・貼付シート!N92","v":0},{"$f":"データ入力・貼付シート!O92","v":0},{"$f":"データ入力・貼付シート!P92","v":0},{"$f":"データ入力・貼付シート!Q92","v":0},{"$f":"データ入力・貼付シート!R92","v":0},{"$f":"データ入力・貼付シート!S92","v":0},{"$f":"データ入力・貼付シート!T92","v":0},{"$f":"データ入力・貼付シート!U92","v":0},{"$f":"データ入力・貼付シート!V92","v":0},{"$f":"データ入力・貼付シート!W92","v":0},"",0]
[10,{"$f":"データ入力・貼付シート!B93","v":0},null,null,null,{"$f":"データ入力・貼付シート!C93","v":0},null,null,null,null,null,null,null,null,null,{"$f":"データ入力・貼付シート!D93","v":0},null,null,null,null,{"$f":"データ入力・貼付シート!F93","v":0},{"$f":"データ入力・貼付シート!I93","v":0},{"$f":"データ入力・貼付シート!J93","v":0},{"$f":"データ入力・貼付シート!K93","v":0},{"$f":"データ入力・貼付シート!L93","v":0},{"$f":"データ入力・貼付シート!M93","v":0},{"$f":"データ入力・貼付シート!N93","v":0},{"$f":"データ入力・貼付シート!O93","v":0},{"$f":"データ入力・貼付シート!P93","v":0},{"$f":"データ入力・貼付シート!Q93","v":0},{"$f":"データ入力・貼付シート!R93","v":0},{"$f":"データ入力・貼付シート!S93","v":0},{"$f":"データ入力・貼付シート!T93","v":0},{"$f":"データ入力・貼付シート!U93","v":0},{"$f":"データ入力・貼付シート!V93","v":0},{"$f":"データ入力・貼付シート!W93","v":0},"",0]
[11,{"$f":"データ入力・貼付シート!B94","v":0},null,null,null,{"$f":"データ入力・貼付シート!C94","v":0},null,null,null,null,null,null,null,null,null,{"$f":"データ入力・貼付シート!D94","v":0},null,null,null,null,{"$f":"データ入力・貼付シート!F94","v":0},{"$f":"データ入力・貼付シート!I94","v":0},{"$f":"データ入力・貼付シート!J94","v":0},{"$f":"データ入力・貼付シート!K94","v":0},{"$f":"データ入力・貼付シート!L94","v":0},{"$f":"データ入力・貼付シート!M94","v":0},{"$f":"データ入力・貼付シート!N94","v":0},{"$f":"データ入力・貼付シート!O94","v":0},{"$f":"データ入力・貼付シート!P94","v":0},{"$f":"データ入力・貼付シート!Q94","v":0},{"$f":"データ入力・貼付シート!R94","v":0},{"$f":"データ入力・貼付シート!S94","v":0},{"$f":"データ入力・貼付シート!T94","v":0},{"$f":"データ入力・貼付シート!U94","v":0},{"$f":"データ入力・貼付シート!V94","v":0},{"$f":"データ入力・貼付シート!W94","v":0},"",0]
[12,{"$f":"データ入力・貼付シート!B95","v":0},null,null,null,{"$f":"データ入力・貼付シート!C95","v":0},null,null,null,null,null,null,null,null,null,{"$f":"データ入力・貼付シート!D95","v":0},null,null,null,null,{"$f":"データ入力・貼付シート!F95","v":0},{"$f":"データ入力・貼付シート!I95","v":0},{"$f":"データ入力・貼付シート!J95","v":0},{"$f":"データ入力・貼付シート!K95","v":0},{"$f":"データ入力・貼付シート!L95","v":0},{"$f":"データ入力・貼付シート!M95","v":0},{"$f":"データ入力・貼付シート!N95","v":0},{"$f":"データ入力・貼付シート!O95","v":0},{"$f":"データ入力・貼付シート!P95","v":0},{"$f":"データ入力・貼付シート!Q95","v":0},{"$f":"データ入力・貼付シート!R95","v":0},{"$f":"データ入力・貼付シート!S95","v":0},{"$f":"データ入力・貼付シート!T95","v":0},{"$f":"データ入力・貼付シート!U95","v":0},{"$f":"データ入力・貼付シート!V95","v":0},{"$f":"データ入力・貼付シート!W95","v":0},"",0]
[13,{"$f":"データ入力・貼付シート!B96","v":0},null,null,null,{"$f":"データ入力・貼付シート!C96","v":0},null,null,null,null,null,null,null,null,null,{"$f":"データ入力・貼付シート!D96","v":0},null,null,null,null,{"$f":"データ入力・貼付シート!F96","v":0},{"$f":"データ入力・貼付シート!I96","v":0},{"$f":"データ入力・貼付シート!J96","v":0},{"$f":"データ入力・貼付シート!K96","v":0},{"$f":"データ入力・貼付シート!L96","v":0},{"$f":"データ入力・貼付シート!M96","v":0},{"$f":"データ入力・貼付シート!N96","v":0},{"$f":"データ入力・貼付シート!O96","v":0},{"$f":"データ入力・貼付シート!P96","v":0},{"$f":"データ入力・貼付シート!Q96","v":0},{"$f":"データ入力・貼付シート!R96","v":0},{"$f":"データ入力・貼付シート!S96","v":0},{"$f":"データ入力・貼付シート!T96","v":0},{"$f":"データ入力・貼付シート!U96","v":0},{"$f":"データ入力・貼付シート!V96","v":0},{"$f":"データ入力・貼付シート!W96","v":0},"",0]
[14,{"$f":"データ入力・貼付シート!B97","v":0},null,null,null,{"$f":"データ入力・貼付シート!C97","v":0},null,null,null,null,null,null,null,null,null,{"$f":"データ入力・貼付シート!D97","v":0},null,null,null,null,{"$f":"データ入力・貼付シート!F97","v":0},{"$f":"データ入力・貼付シート!I97","v":0},{"$f":"データ入力・貼付シート!J97","v":0},{"$f":"データ入力・貼付シート!K97","v":0},{"$f":"データ入力・貼付シート!L97","v":0},{"$f":"データ入力・貼付シート!M97","v":0},{"$f":"データ入力・貼付シート!N97","v":0},{"$f":"データ入力・貼付シート!O97","v":0},{"$f":"データ入力・貼付シート!P97","v":0},{"$f":"データ入力・貼付シート!Q97","v":0},{"$f":"データ入力・貼付シート!R97","v":0},{"$f":"データ入力・貼付シート!S97","v":0},{"$f":"データ入力・貼付シート!T97","v":0},{"$f":"データ入力・貼付シート!U97","v":0},{"$f":"データ入力・貼付シート!V97","v":0},{"$f":"データ入力・貼付シート!W97","v":0},"",0]
[15,{"$f":"データ入力・貼付シート!B98","v":0},null,null,null,{"$f":"データ入力・貼付シート!C98","v":0},null,null,null,null,null,null,null,null,null,{"$f":"データ入力・貼付シート!D98","v":0},null,null,null,null,{"$f":"データ入力・貼付シート!F98","v":0},{"$f":"データ入力・貼付シート!I98","v":0},{"$f":"データ入力・貼付シート!J98","v":0},{"$f":"データ入力・貼付シート!K98","v":0},{"$f":"データ入力・貼付シート!L98","v":0},{"$f":"データ入力・貼付シート!M98","v":0},{"$f":"データ入力・貼付シート!N98","v":0},{"$f":"データ入力・貼付シート!O98","v":0},{"$f":"データ入力・貼付シート!P98","v":0},{"$f":"データ入力・貼付シート!Q98","v":0},{"$f":"データ入力・貼付シート!R98","v":0},{"$f":"データ入力・貼付シート!S98","v":0},{"$f":"データ入力・貼付シート!T98","v":0},{"$f":"データ入力・貼付シート!U98","v":0},{"$f":"データ入力・貼付シート!V98","v":0},{"$f":"データ入力・貼付シート!W98","v":0},"",0]
[16,{"$f":"データ入力・貼付シート!B99","v":0},null,null,null,{"$f":"データ入力・貼付シート!C99","v":0},null,null,null,null,null,null,null,null,null,{"$f":"データ入力・貼付シート!D99","v":0},null,null,null,null,{"$f":"データ入力・貼付シート!F99","v":0},{"$f":"データ入力・貼付シート!I99","v":0},{"$f":"データ入力・貼付シート!J99","v":0},{"$f":"データ入力・貼付シート!K99","v":0},{"$f":"データ入力・貼付シート!L99","v":0},{"$f":"データ入力・貼付シート!M99","v":0},{"$f":"データ入力・貼付シート!N99","v":0},{"$f":"データ入力・貼付シート!O99","v":0},{"$f":"データ入力・貼付シート!P99","v":0},{"$f":"データ入力・貼付シート!Q99","v":0},{"$f":"データ入力・貼付シート!R99","v":0},{"$f":"データ入力・貼付シート!S99","v":0},{"$f":"データ入力・貼付シート!T99","v":0},{"$f":"データ入力・貼付シート!U99","v":0},{"$f":"データ入力・貼付シート!V99","v":0},{"$f":"データ入力・貼付シート!W99","v":0},"",0]
[17,{"$f":"データ入力・貼付シート!B100","v":0},null,null,null,{"$f":"データ入力・貼付シート!C100","v":0},null,null,null,null,null,null,null,null,null,{"$f":"データ入力・貼付シート!D100","v":0},null,null,null,null,{"$f":"データ入力・貼付シート!F100","v":0},{"$f":"データ入力・貼付シート!I100","v":0},{"$f":"データ入力・貼付シート!J100","v":0},{"$f":"データ入力・貼付シート!K100","v":0},{"$f":"データ入力・貼付シート!L100","v":0},{"$f":"データ入力・貼付シート!M100","v":0},{"$f":"データ入力・貼付シート!N100","v":0},{"$f":"データ入力・貼付シート!O100","v":0},{"$f":"データ入力・貼付シート!P100","v":0},{"$f":"データ入力・貼付シート!Q100","v":0},{"$f":"データ入力・貼付シート!R100","v":0},{"$f":"データ入力・貼付シート!S100","v":0},{"$f":"データ入力・貼付シート!T100","v":0},{"$f":"データ入力・貼付シート!U100","v":0},{"$f":"データ入力・貼付シート!V100","v":0},{"$f":"データ入力・貼付シート!W100","v":0},"",0]
[18,{"$f":"データ入力・貼付シート!B101","v":0},null,null,null,{"$f":"データ入力・貼付シート!C101","v":0},null,null,null,null,null,null,null,null,null,{"$f":"データ入力・貼付シート!D101","v":0},null,null,null,null,{"$f":"データ入力・貼付シート!F101","v":0},{"$f":"データ入力・貼付シート!I101","v":0},{"$f":"データ入力・貼付シート!J101","v":0},{"$f":"データ入力・貼付シート!K101","v":0},{"$f":"データ入力・貼付シート!L101","v":0},{"$f":"データ入力・貼付シート!M101","v":0},{"$f":"データ入力・貼付シート!N101","v":0},{"$f":"データ入力・貼付シート!O101","v":0},{"$f":"データ入力・貼付シート!P101","v":0},{"$f":"データ入力・貼付シート!Q101","v":0},{"$f":"データ入力・貼付シート!R101","v":0},{"$f":"データ入力・貼付シート!S101","v":0},{"$f":"データ入力・貼付シート!T101","v":0},{"$f":"データ入力・貼付シート!U101","v":0},{"$f":"データ入力・貼付シート!V101","v":0},{"$f":"データ入力・貼付シート!W101","v":0},"",0]
[19,{"$f":"データ入力・貼付シート!B102","v":0},null,null,null,{"$f":"データ入力・貼付シート!C102","v":0},null,null,null,null,null,null,null,null,null,{"$f":"データ入力・貼付シート!D102","v":0},null,null,null,null,{"$f":"データ入力・貼付シート!F102","v":0},{"$f":"データ入力・貼付シート!I102","v":0},{"$f":"データ入力・貼付シート!J102","v":0},{"$f":"データ入力・貼付シート!K102","v":0},{"$f":"データ入力・貼付シート!L102","v":0},{"$f":"データ入力・貼付シート!M102","v":0},{"$f":"データ入力・貼付シート!N102","v":0},{"$f":"データ入力・貼付シート!O102","v":0},{"$f":"データ入力・貼付シート!P102","v":0},{"$f":"データ入力・貼付シート!Q102","v":0},{"$f":"データ入力・貼付シート!R102","v":0},{"$f":"データ入力・貼付シート!S102","v":0},{"$f":"データ入力・貼付シート!T102","v":0},{"$f":"データ入力・貼付シート!U102","v":0},{"$f":"データ入力・貼付シート!V102","v":0},{"$f":"データ入力・貼付シート!W102","v":0},"",0]
[20,{"$f":"データ入力・貼付シート!B103","v":0},null,null,null,{"$f":"データ入力・貼付シート!C103","v":0},null,null,null,null,null,null,null,null,null,{"$f":"データ入力・貼付シート!D103","v":0},null,null,null,null,{"$f":"データ入力・貼付シート!F103","v":0},{"$f":"データ入力・貼付シート!I103","v":0},{"$f":"データ入力・貼付シート!J103","v":0},{"$f":"データ入力・貼付シート!K103","v":0},{"$f":"データ入力・貼付シート!L103","v":0},{"$f":"データ入力・貼付シート!M103","v":0},{"$f":"データ入力・貼付シート!N103","v":0},{"$f":"データ入力・貼付シート!O103","v":0},{"$f":"データ入力・貼付シート!P103","v":0},{"$f":"データ入力・貼付シート!Q103","v":0},{"$f":"データ入力・貼付シート!R103","v":0},{"$f":"データ入力・貼付シート!S103","v":0},{"$f":"データ入力・貼付シート!T103","v":0},{"$f":"データ入力・貼付シート!U103","v":0},{"$f":"データ入力・貼付シート!V103","v":0},{"$f":"データ入力・貼付シート!W103","v":0},"",0]
[]
[null,"男子","（",{"$f":"COUNTIF($AK$21:$AK$87,1)","v":0},"）","名","＋",null,"女子","（",{"$f":"COUNTIF($AK$115:$AK$181,2)","v":0},"）","名","＝",null,null,"参加選手合計",null,null,null,"（",{"$f":"$D$42+$K$42","v":0},"）","名",null,null,null,null,"個人種目",null,"（",{"$f":"SUM($AL$21:$AL$181)","v":0},null,"）","種目"]
[null,null,null,null,null,null,null,null,null,null,null,null,null,null,null,null,null,null,null,null,null,null,null,null,null,null,null,null,"リレー種目",null,"（",{"$f":"SUM($AK$15:$AK$16,$AK$109:$AK$110)","v":0},null,"）","種目"]
["①","下記の者は本校在学生徒であり、定期健康診断の結果異常なく、標記大会に出場することを認め参加申込をいたします。"]
["②","個人情報については「沖縄県高体連個人情報保護方針」を承諾した上で参加申込みすることに同意します。"]
[null,null,null,"令和",{"$f":"データ入力・貼付シート!$E$20","v":5},null,"年",{"$f":"データ入力・貼付シート!$G$20","v":0},null,"月",{"$f":"データ入力・貼付シート!$I$20","v":0},null,"日"]
[null,null,null,null,null,null,null,null,{"$f":"データ入力・貼付シート!$D$2","v":0},null,null,null,null,null,null,null,null,null,null,null,null,null,"校長",null,null,{"$f":"データ入力・貼付シート!$D$8","v":0}]
["沖縄県高等学校体育連盟会長　　殿",null,null,null,null,null,null,null,null,null,null,null,null,null,null,null,null,null,null,null,null,null,null,null,null,null,null,null,null,null,null,"高体連\n学校番号",null,null,null,null,null,null,null,null,null,"男子個人種目数","女子個人種目数","男個人記入ミス","女個人記入ミス",null,"男子個人種目数②","女子個人種目数②","男子参加者数①","男子参加者数②","女子参加者数①","女子参加者数②"]
[null,null,null,null,null,null,null,{"$f":"H2","v":"令和５年度沖縄県高等学校新人体育大会\n水泳競技大会"},null,null,null,null,null,null,null,null,null,null,null,null,null,null,null,null,null,null,null,null,null,null,null,{"$f":"データ入力・貼付シート!$D$9","v":0}]
[]
["水 泳 競 技 申 込 一 覧 表"]
[null,null,null,null,null,null,null,null,null,null,null,null,null,null,null,null,null,null,null,null,null,null,null,null,null,null,null,"枚中の　   枚目"]
[]
["フリガナ",null,null,{"$f":"PHONETIC(データ入力・貼付シート!$D$2)","v":""},null,null,null,null,null,null,null,null,null,null,null,null,null,"学　　　校　　　所　　　在　　　地",null,null,null,null,null,null,null,null,null,"学校連絡先"]
["学　校\n正式名称",null,null,{"$f":"データ入力・貼付シート!$D$2","v":0},null,null,null,null,null,null,null,null,null,null,null,null,null,{"$f":"データ入力・貼付シート!$D$5","v":0},null,null,null,null,null,null,null,null,null,"TEL",{"$f":"データ入力・貼付シート!$D$6","v":0}]
[null,null,null,null,null,null,null,null,null,null,null,null,null,null,null,null,null,null,null,null,null,null,null,null,null,null,null,"FAX",{"$f":"データ入力・貼付シート!$D$7","v":0}]
["日本水泳連盟\n登録団体番号",null,null,"学　校　名　略　称",null,null,null,null,null,"略称フリガナ",null,null,null,"フリガナ",null,{"$f":"データ入力・貼付シート!$D$12","v":0},null,null,null,null,null,null,null,null,null,"性","フリガナ",null,{"$f":"データ入力・貼付シート!$D$17","v":0},null,null,null,null,null,null,"性"]
[{"$f":"CONCATENATE(データ入力・貼付シート!$R$10,データ入力・貼付シート!$D$10)","v":"４７"},null,null,{"$f":"データ入力・貼付シート!$D$3","v":0},null,null,null,null,null,{"$f":"データ入力・貼付シート!$D$4","v":0},null,null,null,"監督者",null,{"$f":"データ入力・貼付シート!$D$11","v":0},null,null,null,null,null,null,null,{"$f":"データ入力・貼付シート!$D$14","v":0},null,{"$f":"データ入力・貼付シート!$D$13","v":0},"引率\n責任者",null,{"$f":"データ入力・貼付シート!$D$16","v":0},null,null,null,null,null,null,{"$f":"データ入力・貼付シート!$D$18","v":0},null,null,null,null,null,null,null,null,null,{"$f":"COUNTIF(#REF!,\"記入ミス\")","v":{"$error":"#REF!"}}]
[]
[null,null,null,null,null,null,null,null,null,null,null,null,null,null,null,"緊急連絡先",null,null,{"$f":"データ入力・貼付シート!$D$15","v":0},null,null,null,null,null,null,null,null,null,null,null,null,null,null,null,null,null,null,null,null,null,null,null,null,null,null,"R記入ミス"]
[]
["リレー申込欄",null,null,null,null,null,null,"学校名",null,null,null,{"$f":"データ入力・貼付シート!$B$33","v":0},null,null,null,null,null,null,null,null,{"$f":"データ入力・貼付シート!$D$33","v":0},null,null,null,null,{"$f":"データ入力・貼付シート!$E$33","v":0},null,null,null,null,null,{"$f":"データ入力・貼付シート!$G$33","v":"00:00:00"}]
[null,null,null,null,null,null,null,null,null,null,null,null,null,null,null,null,null,null,null,null,{"$f":"データ入力・貼付シート!$D$34","v":0},null,null,null,null,{"$f":"データ入力・貼付シート!$E$34","v":0},null,null,null,null,null,{"$f":"データ入力・貼付シート!$G$34","v":"00:00:00"}]
[]
["№","登録番号",null,null,null,"氏　　名",null,null,null,null,null,null,null,null,null,"フリガナ",null,null,null,null,"学年","出　　　　　場　　　　　種　　　　　目"]
[null,null,null,null,null,null,null,null,null,null,null,null,null,null,null,null,null,null,null,null,null,"自由形",null,null,null,"背泳ぎ",null,null,"平泳ぎ",null,null,"ﾊﾞﾀﾌﾗｲ",null,null,"個人ﾒﾄﾞﾚｰ"]
[null,null,null,null,null,null,null,null,null,null,null,null,null,null,null,null,null,null,null,null,null,50,100,200,400,50,100,200,50,100,200,50,100,200,200,400]
[21,{"$f":"データ入力・貼付シート!B104","v":0},null,null,null,{"$f":"データ入力・貼付シート!C104","v":0},null,null,null,null,null,null,null,null,null,{"$f":"データ入力・貼付シート!D104","v":0},null,null,null,null,{"$f":"データ入力・貼付シート!F104","v":0},{"$f":"データ入力・貼付シート!I104","v":0},{"$f":"データ入力・貼付シート!J104","v":0},{"$f":"データ入力・貼付シート!K104","v":0},{"$f":"データ入力・貼付シート!L104","v":0},{"$f":"データ入力・貼付シート!M104","v":0},{"$f":"データ入力・貼付シート!N104","v":0},{"$f":"データ入力・貼付シート!O104","v":0},{"$f":"データ入力・貼付シート!P104","v":0},{"$f":"データ入力・貼付シート!Q104","v":0},{"$f":"データ入力・貼付シート!R104","v":0},{"$f":"データ入力・貼付シート!S104","v":0},{"$f":"データ入力・貼付シート!T104","v":0},{"$f":"データ入力・貼付シート!U104","v":0},{"$f":"データ入力・貼付シート!V104","v":0},{"$f":"データ入力・貼付シート!W104","v":0},{"$f":"IF(B162>1,\"2\",\"\")","v":""},{"$f":"SUM(V162:AJ162)","v":0}]
[22,{"$f":"データ入力・貼付シート!B105","v":0},null,null,null,{"$f":"データ入力・貼付シート!C105","v":0},null,null,null,null,null,null,null,null,null,{"$f":"データ入力・貼付シート!D105","v":0},null,null,null,null,{"$f":"データ入力・貼付シート!F105","v":0},{"$f":"データ入力・貼付シート!I105","v":0},{"$f":"データ入力・貼付シート!J105","v":0},{"$f":"データ入力・貼付シート!K105","v":0},{"$f":"データ入力・貼付シート!L105","v":0},{"$f":"データ入力・貼付シート!M105","v":0},{"$f":"データ入力・貼付シート!N105","v":0},{"$f":"データ入力・貼付シート!O105","v":0},{"$f":"データ入力・貼付シート!P105","v":0},{"$f":"データ入力・貼付シート!Q105","v":0},{"$f":"データ入力・貼付シート!R105","v":0},{"$f":"データ入力・貼付シート!S105","v":0},{"$f":"データ入力・貼付シート!T105","v":0},{"$f":"データ入力・貼付シート!U105","v":0},{"$f":"データ入力・貼付シート!V105","v":0},{"$f":"データ入力・貼付シート!W105","v":0},{"$f":"IF(B163>1,\"2\",\"\")","v":""},{"$f":"SUM(V163:AJ163)","v":0}]
[23,{"$f":"データ入力・貼付シート!B106","v":0},null,null,null,{"$f":"データ入力・貼付シート!C106","v":0},null,null,null,null,null,null,null,null,null,{"$f":"データ入力・貼付シート!D106","v":0},null,null,null,null,{"$f":"データ入力・貼付シート!F106","v":0},{"$f":"データ入力・貼付シート!I106","v":0},{"$f":"データ入力・貼付シート!J106","v":0},{"$f":"データ入力・貼付シート!K106","v":0},{"$f":"データ入力・貼付シート!L106","v":0},{"$f":"データ入力・貼付シート!M106","v":0},{"$f":"データ入力・貼付シート!N106","v":0},{"$f":"データ入力・貼付シート!O106","v":0},{"$f":"データ入力・貼付シート!P106","v":0},{"$f":"データ入力・貼付シート!Q106","v":0},{"$f":"データ入力・貼付シート!R106","v":0},{"$f":"データ入力・貼付シート!S106","v":0},{"$f":"データ入力・貼付シート!T106","v":0},{"$f":"データ入力・貼付シート!U106","v":0},{"$f":"データ入力・貼付シート!V106","v":0},{"$f":"データ入力・貼付シート!W106","v":0},"",0]
[24,{"$f":"データ入力・貼付シート!B107","v":0},null,null,null,{"$f":"データ入力・貼付シート!C107","v":0},null,null,null,null,null,null,null,null,null,{"$f":"データ入力・貼付シート!D107","v":0},null,null,null,null,{"$f":"データ入力・貼付シート!F107","v":0},{"$f":"データ入力・貼付シート!I107","v":0},{"$f":"データ入力・貼付シート!J107","v":0},{"$f":"データ入力・貼付シート!K107","v":0},{"$f":"データ入力・貼付シート!L107","v":0},{"$f":"データ入力・貼付シート!M107","v":0},{"$f":"データ入力・貼付シート!N107","v":0},{"$f":"データ入力・貼付シート!O107","v":0},{"$f":"データ入力・貼付シート!P107","v":0},{"$f":"データ入力・貼付シート!Q107","v":0},{"$f":"データ入力・貼付シート!R107","v":0},{"$f":"データ入力・貼付シート!S107","v":0},{"$f":"データ入力・貼付シート!T107","v":0},{"$f":"データ入力・貼付シート!U107","v":0},{"$f":"データ入力・貼付シート!V107","v":0},{"$f":"データ入力・貼付シート!W107","v":0},"",0]
[25,{"$f":"データ入力・貼付シート!B108","v":0},null,null,null,{"$f":"データ入力・貼付シート!C108","v":0},null,null,null,null,null,null,null,null,null,{"$f":"データ入力・貼付シート!D108","v":0},null,null,null,null,{"$f":"データ入力・貼付シート!F108","v":0},{"$f":"データ入力・貼付シート!I108","v":0},{"$f":"データ入力・貼付シート!J108","v":0},{"$f":"データ入力・貼付シート!K108","v":0},{"$f":"データ入力・貼付シート!L108","v":0},{"$f":"データ入力・貼付シート!M108","v":0},{"$f":"データ入力・貼付シート!N108","v":0},{"$f":"データ入力・貼付シート!O108","v":0},{"$f":"データ入力・貼付シート!P108","v":0},{"$f":"データ入力・貼付シート!Q108","v":0},{"$f":"データ入力・貼付シート!R108","v":0},{"$f":"データ入力・貼付シート!S108","v":0},{"$f":"データ入力・貼付シート!T108","v":0},{"$f":"データ入力・貼付シート!U108","v":0},{"$f":"データ入力・貼付シート!V108","v":0},{"$f":"データ入力・貼付シート!W108","v":0},"",0]
[26,{"$f":"データ入力・貼付シート!B109","v":0},null,null,null,{"$f":"データ入力・貼付シート!C109","v":0},null,null,null,null,null,null,null,null,null,{"$f":"データ入力・貼付シート!D109","v":0},null,null,null,null,{"$f":"データ入力・貼付シート!F109","v":0},{"$f":"データ入力・貼付シート!I109","v":0},{"$f":"データ入力・貼付シート!J109","v":0},{"$f":"データ入力・貼付シート!K109","v":0},{"$f":"データ入力・貼付シート!L109","v":0},{"$f":"データ入力・貼付シート!M109","v":0},{"$f":"データ入力・貼付シート!N109","v":0},{"$f":"データ入力・貼付シート!O109","v":0},{"$f":"データ入力・貼付シート!P109","v":0},{"$f":"データ入力・貼付シート!Q109","v":0},{"$f":"データ入力・貼付シート!R109","v":0},{"$f":"データ入力・貼付シート!S109","v":0},{"$f":"データ入力・貼付シート!T109","v":0},{"$f":"データ入力・貼付シート!U109","v":0},{"$f":"データ入力・貼付シート!V109","v":0},{"$f":"データ入力・貼付シート!W109","v":0},"",0]
[27,{"$f":"データ入力・貼付シート!B110","v":0},null,null,null,{"$f":"データ入力・貼付シート!C110","v":0},null,null,null,null,null,null,null,null,null,{"$f":"データ入力・貼付シート!D110","v":0},null,null,null,null,{"$f":"データ入力・貼付シート!F110","v":0},{"$f":"データ入力・貼付シート!I110","v":0},{"$f":"データ入力・貼付シート!J110","v":0},{"$f":"データ入力・貼付シート!K110","v":0},{"$f":"データ入力・貼付シート!L110","v":0},{"$f":"データ入力・貼付シート!M110","v":0},{"$f":"データ入力・貼付シート!N110","v":0},{"$f":"データ入力・貼付シート!O110","v":0},{"$f":"データ入力・貼付シート!P110","v":0},{"$f":"データ入力・貼付シート!Q110","v":0},{"$f":"データ入力・貼付シート!R110","v":0},{"$f":"データ入力・貼付シート!S110","v":0},{"$f":"データ入力・貼付シート!T110","v":0},{"$f":"データ入力・貼付シート!U110","v":0},{"$f":"データ入力・貼付シート!V110","v":0},{"$f":"データ入力・貼付シート!W110","v":0},"",0]
[28,{"$f":"データ入力・貼付シート!B111","v":0},null,null,null,{"$f":"データ入力・貼付シート!C111","v":0},null,null,null,null,null,null,null,null,null,{"$f":"データ入力・貼付シート!D111","v":0},null,null,null,null,{"$f":"データ入力・貼付シート!F111","v":0},{"$f":"データ入力・貼付シート!I111","v":0},{"$f":"データ入力・貼付シート!J111","v":0},{"$f":"データ入力・貼付シート!K111","v":0},{"$f":"データ入力・貼付シート!L111","v":0},{"$f":"データ入力・貼付シート!M111","v":0},{"$f":"データ入力・貼付シート!N111","v":0},{"$f":"データ入力・貼付シート!O111","v":0},{"$f":"データ入力・貼付シート!P111","v":0},{"$f":"データ入力・貼付シート!Q111","v":0},{"$f":"データ入力・貼付シート!R111","v":0},{"$f":"データ入力・貼付シート!S111","v":0},{"$f":"データ入力・貼付シート!T111","v":0},{"$f":"データ入力・貼付シート!U111","v":0},{"$f":"データ入力・貼付シート!V111","v":0},{"$f":"データ入力・貼付シート!W111","v":0},"",0]
[29,{"$f":"データ入力・貼付シート!B112","v":0},null,null,null,{"$f":"データ入力・貼付シート!C112","v":0},null,null,null,null,null,null,null,null,null,{"$f":"データ入力・貼付シート!D112","v":0},null,null,null,null,{"$f":"データ入力・貼付シート!F112","v":0},{"$f":"データ入力・貼付シート!I112","v":0},{"$f":"データ入力・貼付シート!J112","v":0},{"$f":"データ入力・貼付シート!K112","v":0},{"$f":"データ入力・貼付シート!L112","v":0},{"$f":"データ入力・貼付シート!M112","v":0},{"$f":"データ入力・貼付シート!N112","v":0},{"$f":"データ入力・貼付シート!O112","v":0},{"$f":"データ入力・貼付シート!P112","v":0},{"$f":"データ入力・貼付シート!Q112","v":0},{"$f":"データ入力・貼付シート!R112","v":0},{"$f":"データ入力・貼付シート!S112","v":0},{"$f":"データ入力・貼付シート!T112","v":0},{"$f":"データ入力・貼付シート!U112","v":0},{"$f":"データ入力・貼付シート!V112","v":0},{"$f":"データ入力・貼付シート!W112","v":0},"",0]
[30,{"$f":"データ入力・貼付シート!B113","v":0},null,null,null,{"$f":"データ入力・貼付シート!C113","v":0},null,null,null,null,null,null,null,null,null,{"$f":"データ入力・貼付シート!D113","v":0},null,null,null,null,{"$f":"データ入力・貼付シート!F113","v":0},{"$f":"データ入力・貼付シート!I113","v":0},{"$f":"データ入力・貼付シート!J113","v":0},{"$f":"データ入力・貼付シート!K113","v":0},{"$f":"データ入力・貼付シート!L113","v":0},{"$f":"データ入力・貼付シート!M113","v":0},{"$f":"データ入力・貼付シート!N113","v":0},{"$f":"データ入力・貼付シート!O113","v":0},{"$f":"データ入力・貼付シート!P113","v":0},{"$f":"データ入力・貼付シート!Q113","v":0},{"$f":"データ入力・貼付シート!R113","v":0},{"$f":"データ入力・貼付シート!S113","v":0},{"$f":"データ入力・貼付シート!T113","v":0},{"$f":"データ入力・貼付シート!U113","v":0},{"$f":"データ入力・貼付シート!V113","v":0},{"$f":"データ入力・貼付シート!W113","v":0},"",0]
[31,{"$f":"データ入力・貼付シート!B114","v":0},null,null,null,{"$f":"データ入力・貼付シート!C114","v":0},null,null,null,null,null,null,null,null,null,{"$f":"データ入力・貼付シート!D114","v":0},null,null,null,null,{"$f":"データ入力・貼付シート!F114","v":0},{"$f":"データ入力・貼付シート!I114","v":0},{"$f":"データ入力・貼付シート!J114","v":0},{"$f":"データ入力・貼付シート!K114","v":0},{"$f":"データ入力・貼付シート!L114","v":0},{"$f":"データ入力・貼付シート!M114","v":0},{"$f":"データ入力・貼付シート!N114","v":0},{"$f":"データ入力・貼付シート!O114","v":0},{"$f":"データ入力・貼付シート!P114","v":0},{"$f":"データ入力・貼付シート!Q114","v":0},{"$f":"データ入力・貼付シート!R114","v":0},{"$f":"データ入力・貼付シート!S114","v":0},{"$f":"データ入力・貼付シート!T114","v":0},{"$f":"データ入力・貼付シート!U114","v":0},{"$f":"データ入力・貼付シート!V114","v":0},{"$f":"データ入力・貼付シート!W114","v":0},"",0]
[32,{"$f":"データ入力・貼付シート!B115","v":0},null,null,null,{"$f":"データ入力・貼付シート!C115","v":0},null,null,null,null,null,null,null,null,null,{"$f":"データ入力・貼付シート!D115","v":0},null,null,null,null,{"$f":"データ入力・貼付シート!F115","v":0},{"$f":"データ入力・貼付シート!I115","v":0},{"$f":"データ入力・貼付シート!J115","v":0},{"$f":"データ入力・貼付シート!K115","v":0},{"$f":"データ入力・貼付シート!L115","v":0},{"$f":"データ入力・貼付シート!M115","v":0},{"$f":"データ入力・貼付シート!N115","v":0},{"$f":"データ入力・貼付シート!O115","v":0},{"$f":"データ入力・貼付シート!P115","v":0},{"$f":"データ入力・貼付シート!Q115","v":0},{"$f":"データ入力・貼付シート!R115","v":0},{"$f":"データ入力・貼付シート!S115","v":0},{"$f":"データ入力・貼付シート!T115","v":0},{"$f":"データ入力・貼付シート!U115","v":0},{"$f":"データ入力・貼付シート!V115","v":0},{"$f":"データ入力・貼付シート!W115","v":0},"",0]
[33,{"$f":"データ入力・貼付シート!B116","v":0},null,null,null,{"$f":"データ入力・貼付シート!C116","v":0},null,null,null,null,null,null,null,null,null,{"$f":"データ入力・貼付シート!D116","v":0},null,null,null,null,{"$f":"データ入力・貼付シート!F116","v":0},{"$f":"データ入力・貼付シート!I116","v":0},{"$f":"データ入力・貼付シート!J116","v":0},{"$f":"データ入力・貼付シート!K116","v":0},{"$f":"データ入力・貼付シート!L116","v":0},{"$f":"データ入力・貼付シート!M116","v":0},{"$f":"データ入力・貼付シート!N116","v":0},{"$f":"データ入力・貼付シート!O116","v":0},{"$f":"データ入力・貼付シート!P116","v":0},{"$f":"データ入力・貼付シート!Q116","v":0},{"$f":"データ入力・貼付シート!R116","v":0},{"$f":"データ入力・貼付シート!S116","v":0},{"$f":"データ入力・貼付シート!T116","v":0},{"$f":"データ入力・貼付シート!U116","v":0},{"$f":"データ入力・貼付シート!V116","v":0},{"$f":"データ入力・貼付シート!W116","v":0},"",0]
[34,{"$f":"データ入力・貼付シート!B117","v":0},null,null,null,{"$f":"データ入力・貼付シート!C117","v":0},null,null,null,null,null,null,null,null,null,{"$f":"データ入力・貼付シート!D117","v":0},null,null,null,null,{"$f":"データ入力・貼付シート!F117","v":0},{"$f":"データ入力・貼付シート!I117","v":0},{"$f":"データ入力・貼付シート!J117","v":0},{"$f":"データ入力・貼付シート!K117","v":0},{"$f":"データ入力・貼付シート!L117","v":0},{"$f":"データ入力・貼付シート!M117","v":0},{"$f":"データ入力・貼付シート!N117","v":0},{"$f":"データ入力・貼付シート!O117","v":0},{"$f":"データ入力・貼付シート!P117","v":0},{"$f":"データ入力・貼付シート!Q117","v":0},{"$f":"データ入力・貼付シート!R117","v":0},{"$f":"データ入力・貼付シート!S117","v":0},{"$f":"データ入力・貼付シート!T117","v":0},{"$f":"データ入力・貼付シート!U117","v":0},{"$f":"データ入力・貼付シート!V117","v":0},{"$f":"データ入力・貼付シート!W117","v":0},"",0]
[35,{"$f":"データ入力・貼付シート!B118","v":0},null,null,null,{"$f":"データ入力・貼付シート!C118","v":0},null,null,null,null,null,null,null,null,null,{"$f":"データ入力・貼付シート!D118","v":0},null,null,null,null,{"$f":"データ入力・貼付シート!F118","v":0},{"$f":"データ入力・貼付シート!I118","v":0},{"$f":"データ入力・貼付シート!J118","v":0},{"$f":"データ入力・貼付シート!K118","v":0},{"$f":"データ入力・貼付シート!L118","v":0},{"$f":"データ入力・貼付シート!M118","v":0},{"$f":"データ入力・貼付シート!N118","v":0},{"$f":"データ入力・貼付シート!O118","v":0},{"$f":"データ入力・貼付シート!P118","v":0},{"$f":"データ入力・貼付シート!Q118","v":0},{"$f":"データ入力・貼付シート!R118","v":0},{"$f":"データ入力・貼付シート!S118","v":0},{"$f":"データ入力・貼付シート!T118","v":0},{"$f":"データ入力・貼付シート!U118","v":0},{"$f":"データ入力・貼付シート!V118","v":0},{"$f":"データ入力・貼付シート!W118","v":0},"",0]
[36,{"$f":"データ入力・貼付シート!B119","v":0},null,null,null,{"$f":"データ入力・貼付シート!C119","v":0},null,null,null,null,null,null,null,null,null,{"$f":"データ入力・貼付シート!D119","v":0},null,null,null,null,{"$f":"データ入力・貼付シート!F119","v":0},{"$f":"データ入力・貼付シート!I119","v":0},{"$f":"データ入力・貼付シート!J119","v":0},{"$f":"データ入力・貼付シート!K119","v":0},{"$f":"データ入力・貼付シート!L119","v":0},{"$f":"データ入力・貼付シート!M119","v":0},{"$f":"データ入力・貼付シート!N119","v":0},{"$f":"データ入力・貼付シート!O119","v":0},{"$f":"データ入力・貼付シート!P119","v":0},{"$f":"データ入力・貼付シート!Q119","v":0},{"$f":"データ入力・貼付シート!R119","v":0},{"$f":"データ入力・貼付シート!S119","v":0},{"$f":"データ入力・貼付シート!T119","v":0},{"$f":"データ入力・貼付シート!U119","v":0},{"$f":"データ入力・貼付シート!V119","v":0},{"$f":"データ入力・貼付シート!W119","v":0},"",0]
[37,{"$f":"データ入力・貼付シート!B120","v":0},null,null,null,{"$f":"データ入力・貼付シート!C120","v":0},null,null,null,null,null,null,null,null,null,{"$f":"データ入力・貼付シート!D120","v":0},null,null,null,null,{"$f":"データ入力・貼付シート!F120","v":0},{"$f":"データ入力・貼付シート!I120","v":0},{"$f":"データ入力・貼付シート!J120","v":0},{"$f":"データ入力・貼付シート!K120","v":0},{"$f":"データ入力・貼付シート!L120","v":0},{"$f":"データ入力・貼付シート!M120","v":0},{"$f":"データ入力・貼付シート!N120","v":0},{"$f":"データ入力・貼付シート!O120","v":0},{"$f":"データ入力・貼付シート!P120","v":0},{"$f":"データ入力・貼付シート!Q120","v":0},{"$f":"データ入力・貼付シート!R120","v":0},{"$f":"データ入力・貼付シート!S120","v":0},{"$f":"データ入力・貼付シート!T120","v":0},{"$f":"データ入力・貼付シート!U120","v":0},{"$f":"データ入力・貼付シート!V120","v":0},{"$f":"データ入力・貼付シート!W120","v":0},"",0]
[38,{"$f":"データ入力・貼付シート!B121","v":0},null,null,null,{"$f":"データ入力・貼付シート!C121","v":0},null,null,null,null,null,null,null,null,null,{"$f":"データ入力・貼付シート!D121","v":0},null,null,null,null,{"$f":"データ入力・貼付シート!F121","v":0},{"$f":"データ入力・貼付シート!I121","v":0},{"$f":"データ入力・貼付シート!J121","v":0},{"$f":"データ入力・貼付シート!K121","v":0},{"$f":"データ入力・貼付シート!L121","v":0},{"$f":"データ入力・貼付シート!M121","v":0},{"$f":"データ入力・貼付シート!N121","v":0},{"$f":"データ入力・貼付シート!O121","v":0},{"$f":"データ入力・貼付シート!P121","v":0},{"$f":"データ入力・貼付シート!Q121","v":0},{"$f":"データ入力・貼付シート!R121","v":0},{"$f":"データ入力・貼付シート!S121","v":0},{"$f":"データ入力・貼付シート!T121","v":0},{"$f":"データ入力・貼付シート!U121","v":0},{"$f":"データ入力・貼付シート!V121","v":0},{"$f":"データ入力・貼付シート!W121","v":0},"",0]
[39,{"$f":"データ入力・貼付シート!B122","v":0},null,null,null,{"$f":"データ入力・貼付シート!C122","v":0},null,null,null,null,null,null,null,null,null,{"$f":"データ入力・貼付シート!D122","v":0},null,null,null,null,{"$f":"データ入力・貼付シート!F122","v":0},{"$f":"データ入力・貼付シート!I122","v":0},{"$f":"データ入力・貼付シート!J122","v":0},{"$f":"データ入力・貼付シート!K122","v":0},{"$f":"データ入力・貼付シート!L122","v":0},{"$f":"データ入力・貼付シート!M122","v":0},{"$f":"データ入力・貼付シート!N122","v":0},{"$f":"データ入力・貼付シート!O122","v":0},{"$f":"データ入力・貼付シート!P122","v":0},{"$f":"データ入力・貼付シート!Q122","v":0},{"$f":"データ入力・貼付シート!R122","v":0},{"$f":"データ入力・貼付シート!S122","v":0},{"$f":"データ入力・貼付シート!T122","v":0},{"$f":"データ入力・貼付シート!U122","v":0},{"$f":"データ入力・貼付シート!V122","v":0},{"$f":"データ入力・貼付シート!W122","v":0},"",0]
[40,{"$f":"データ入力・貼付シート!B123","v":0},null,null,null,{"$f":"データ入力・貼付シート!C123","v":0},null,null,null,null,null,null,null,null,null,{"$f":"データ入力・貼付シート!D123","v":0},null,null,null,null,{"$f":"データ入力・貼付シート!F123","v":0},{"$f":"データ入力・貼付シート!I123","v":0},{"$f":"データ入力・貼付シート!J123","v":0},{"$f":"データ入力・貼付シート!K123","v":0},{"$f":"データ入力・貼付シート!L123","v":0},{"$f":"データ入力・貼付シート!M123","v":0},{"$f":"データ入力・貼付シート!N123","v":0},{"$f":"データ入力・貼付シート!O123","v":0},{"$f":"データ入力・貼付シート!P123","v":0},{"$f":"データ入力・貼付シート!Q123","v":0},{"$f":"データ入力・貼付シート!R123","v":0},{"$f":"データ入力・貼付シート!S123","v":0},{"$f":"データ入力・貼付シート!T123","v":0},{"$f":"データ入力・貼付シート!U123","v":0},{"$f":"データ入力・貼付シート!V123","v":0},{"$f":"データ入力・貼付シート!W123","v":0},"",0]
[]
[null,"男子","（",{"$f":"COUNTIF($AK$21:$AK$87,1)","v":0},"）","名","＋",null,"女子","（",{"$f":"COUNTIF($AK$115:$AK$181,2)","v":0},"）","名","＝",null,null,"参加選手合計",null,null,null,"（",{"$f":"$D$42+$K$42","v":0},"）","名",null,null,null,null,"個人種目",null,"（",{"$f":"SUM($AL$21:$AL$181)","v":0},null,"）","種目"]
[null,null,null,null,null,null,null,null,null,null,null,null,null,null,null,null,null,null,null,null,null,null,null,null,null,null,null,null,"リレー種目",null,"（",{"$f":"SUM($AK$15:$AK$16,$AK$109:$AK$110)","v":0},null,"）","種目"]
["①","下記の者は本校在学生徒であり、定期健康診断の結果異常なく、標記大会に出場することを認め参加申込をいたします。"]
["②","個人情報については「沖縄県高体連個人情報保護方針」を承諾した上で参加申込みすることに同意します。"]
[null,null,null,"令和",{"$f":"データ入力・貼付シート!$E$20","v":5},null,"年",{"$f":"データ入力・貼付シート!$G$20","v":0},null,"月",{"$f":"データ入力・貼付シート!$I$20","v":0},null,"日"]
[null,null,null,null,null,null,null,null,{"$f":"データ入力・貼付シート!$D$2","v":0},null,null,null,null,null,null,null,null,null,null,null,null,null,"校長",null,null,{"$f":"データ入力・貼付シート!$D$8","v":0}]

{"sheet":"高体連番号はこちら","index":2,"n_rows":3,"n_cols":1,"rows_kept":3,"cut":false,"hidden":false,"merged":[[1,0,1,8],[2,0,2,8]]}
[]
["沖縄県高体連学校番号はこちらです"]
["日本水泳連盟登録番号（４７～）とは異なりますので注意してください"]